BEGIN:VCALENDAR
VERSION:2.0
PRODID:-//Helms Design District - ECPv6.15.18//NONSGML v1.0//EN
CALSCALE:GREGORIAN
METHOD:PUBLISH
X-ORIGINAL-URL:https://helmsdesigndistrict.com
X-WR-CALDESC:Events for Helms Design District
REFRESH-INTERVAL;VALUE=DURATION:PT1H
X-Robots-Tag:noindex
X-PUBLISHED-TTL:PT1H
BEGIN:VTIMEZONE
TZID:America/Los_Angeles
BEGIN:DAYLIGHT
TZOFFSETFROM:-0800
TZOFFSETTO:-0700
TZNAME:PDT
DTSTART:20160313T100000
END:DAYLIGHT
BEGIN:STANDARD
TZOFFSETFROM:-0700
TZOFFSETTO:-0800
TZNAME:PST
DTSTART:20161106T090000
END:STANDARD
BEGIN:DAYLIGHT
TZOFFSETFROM:-0800
TZOFFSETTO:-0700
TZNAME:PDT
DTSTART:20170312T100000
END:DAYLIGHT
BEGIN:STANDARD
TZOFFSETFROM:-0700
TZOFFSETTO:-0800
TZNAME:PST
DTSTART:20171105T090000
END:STANDARD
BEGIN:DAYLIGHT
TZOFFSETFROM:-0800
TZOFFSETTO:-0700
TZNAME:PDT
DTSTART:20180311T100000
END:DAYLIGHT
BEGIN:STANDARD
TZOFFSETFROM:-0700
TZOFFSETTO:-0800
TZNAME:PST
DTSTART:20181104T090000
END:STANDARD
END:VTIMEZONE
BEGIN:VEVENT
DTSTART;TZID=America/Los_Angeles:20170715T170000
DTEND;TZID=America/Los_Angeles:20170715T193000
DTSTAMP:20260423T231945
CREATED:20170622T203252Z
LAST-MODIFIED:20170630T171251Z
UID:10000171-1500138000-1500147000@helmsdesigndistrict.com
SUMMARY:Join us for a Special Screening of "Landfill Harmonic"
DESCRIPTION:Free\nOn Saturday\, July 15th from 5 to 7:30pm\, please join us in welcoming The Possibility Project and Mending as Metaphor for a reception and special film screening of Landfill Harmonic\, immediately followed by a Q+A with The Possibility Project‘s founders\, Kim Pearce and Kath Davis. Also featured is a clothing pop-up from the slumwear108 line\, with proceeds supporting the social justice work of Pearce and Davis. \nAbout Landfill Harmonic \n‘The world sends us garbage\, we send back music’ \nWe live in an unprecedented time of social and environmental upheaval\, so what might the possibilities look like when there is harmony between the two?  Landfill Harmonic is a feature length documentary that follows the journey of a Paraguayan Youth Orchestra that makes its instruments entirely out of waste. The film masterfully demonstrates how ordinary people can make extraordinary choices to rise above conflict and create so much hope in the process. \nThe Possibility Project is an Australian based social enterprise\, that collaborates with slum communities in India to create a slow clothing label called slumwear108. The founders will share their insights on how people around the world are collaborating to enact peaceful\, social\, and environmental cohesion. \nSpace is limited. Please RSVP to ruthkatzensteinsouza@gmail.com.
URL:https://helmsdesigndistrict.com/event/the-possibility-project-and-mending-as-metaphor-host-a-special-screening-of-landfill-harmonic/
LOCATION:Helms Design Center\, 8745 Washington Boulevard\, Culver City\, CA\, 90232
CATEGORIES:News
ATTACH;FMTTYPE=image/gif:https://helmsdesigndistrict.com/wp-content/uploads/2017/06/Landfill-Harmonic-1.gif
GEO:34.0286594;-118.3857496
X-APPLE-STRUCTURED-LOCATION;VALUE=URI;X-ADDRESS=Helms Design Center 8745 Washington Boulevard Culver City CA 90232;X-APPLE-RADIUS=500;X-TITLE=8745 Washington Boulevard:geo:-118.3857496,34.0286594
END:VEVENT
END:VCALENDAR