BEGIN:VCALENDAR
VERSION:2.0
PRODID:-//Helms Design District - ECPv6.15.18//NONSGML v1.0//EN
CALSCALE:GREGORIAN
METHOD:PUBLISH
X-ORIGINAL-URL:https://helmsdesigndistrict.com
X-WR-CALDESC:Events for Helms Design District
REFRESH-INTERVAL;VALUE=DURATION:PT1H
X-Robots-Tag:noindex
X-PUBLISHED-TTL:PT1H
BEGIN:VTIMEZONE
TZID:America/Los_Angeles
BEGIN:DAYLIGHT
TZOFFSETFROM:-0800
TZOFFSETTO:-0700
TZNAME:PDT
DTSTART:20220313T100000
END:DAYLIGHT
BEGIN:STANDARD
TZOFFSETFROM:-0700
TZOFFSETTO:-0800
TZNAME:PST
DTSTART:20221106T090000
END:STANDARD
BEGIN:DAYLIGHT
TZOFFSETFROM:-0800
TZOFFSETTO:-0700
TZNAME:PDT
DTSTART:20230312T100000
END:DAYLIGHT
BEGIN:STANDARD
TZOFFSETFROM:-0700
TZOFFSETTO:-0800
TZNAME:PST
DTSTART:20231105T090000
END:STANDARD
BEGIN:DAYLIGHT
TZOFFSETFROM:-0800
TZOFFSETTO:-0700
TZNAME:PDT
DTSTART:20240310T100000
END:DAYLIGHT
BEGIN:STANDARD
TZOFFSETFROM:-0700
TZOFFSETTO:-0800
TZNAME:PST
DTSTART:20241103T090000
END:STANDARD
END:VTIMEZONE
BEGIN:VEVENT
DTSTART;TZID=America/Los_Angeles:20230623T140000
DTEND;TZID=America/Los_Angeles:20230623T180000
DTSTAMP:20260424T060549
CREATED:20230613T171043Z
LAST-MODIFIED:20230615T221812Z
UID:10001815-1687528800-1687543200@helmsdesigndistrict.com
SUMMARY:Helms Bakery District Open Studio Tours
DESCRIPTION:Free \nJoin the Helms Bakery District Showrooms for open studio tours.\nExperience the latest interior and exterior collections from the Helms Bakery District showrooms and retailers. View the latest introductions and seek one-on-one guidance from the Helms design experts. The following showrooms and retailers will participate in Open Studios from 2:00-6:00 pm on Friday\, June 23rd. \nArcana | Books on the Arts\nCisco Home | Furniture Showroom\nH.D. Buttercup | Coco Republic | Furniture & Homewares\nKOHLER Signature Store | Bathroom Fixtures & Home Accessories\nRejuvenation | Hardware\, Lighting and Furniture\nRoom & Board | Home Furnishing\, Retail\nThe Rug Warehouse | Fine Rugs and Carpets\nThe Shade Store | Window Treatment\nThe Splash Lab | Commercial Sinks\, Fixtures\, and Accessories Showroom
URL:https://helmsdesigndistrict.com/event/open-studio-tours/
LOCATION:Helms Design Center\, 8745 Washington Boulevard\, Culver City\, CA\, 90232
CATEGORIES:News
ATTACH;FMTTYPE=image/jpeg:https://helmsdesigndistrict.com/wp-content/uploads/2023/06/HelmsOlympicsSign_DR_1080px.jpg
GEO:34.0286594;-118.3857496
X-APPLE-STRUCTURED-LOCATION;VALUE=URI;X-ADDRESS=Helms Design Center 8745 Washington Boulevard Culver City CA 90232;X-APPLE-RADIUS=500;X-TITLE=8745 Washington Boulevard:geo:-118.3857496,34.0286594
END:VEVENT
END:VCALENDAR