BEGIN:VCALENDAR
VERSION:2.0
PRODID:-//Helms Design District - ECPv6.15.18//NONSGML v1.0//EN
CALSCALE:GREGORIAN
METHOD:PUBLISH
X-WR-CALNAME:Helms Design District
X-ORIGINAL-URL:https://helmsdesigndistrict.com
X-WR-CALDESC:Events for Helms Design District
REFRESH-INTERVAL;VALUE=DURATION:PT1H
X-Robots-Tag:noindex
X-PUBLISHED-TTL:PT1H
BEGIN:VTIMEZONE
TZID:America/Los_Angeles
BEGIN:DAYLIGHT
TZOFFSETFROM:-0800
TZOFFSETTO:-0700
TZNAME:PDT
DTSTART:20250309T100000
END:DAYLIGHT
BEGIN:STANDARD
TZOFFSETFROM:-0700
TZOFFSETTO:-0800
TZNAME:PST
DTSTART:20251102T090000
END:STANDARD
BEGIN:DAYLIGHT
TZOFFSETFROM:-0800
TZOFFSETTO:-0700
TZNAME:PDT
DTSTART:20260308T100000
END:DAYLIGHT
BEGIN:STANDARD
TZOFFSETFROM:-0700
TZOFFSETTO:-0800
TZNAME:PST
DTSTART:20261101T090000
END:STANDARD
BEGIN:DAYLIGHT
TZOFFSETFROM:-0800
TZOFFSETTO:-0700
TZNAME:PDT
DTSTART:20270314T100000
END:DAYLIGHT
BEGIN:STANDARD
TZOFFSETFROM:-0700
TZOFFSETTO:-0800
TZNAME:PST
DTSTART:20271107T090000
END:STANDARD
END:VTIMEZONE
BEGIN:VEVENT
DTSTART;TZID=America/Los_Angeles:20260221T160000
DTEND;TZID=America/Los_Angeles:20260221T180000
DTSTAMP:20260420T033202
CREATED:20260218T234735Z
LAST-MODIFIED:20260219T000416Z
UID:10002003-1771689600-1771696800@helmsdesigndistrict.com
SUMMARY:Book Signing + Talk with filmmaker Jill Goldman
DESCRIPTION:Please join Arcana: Books on the Arts this Saturday\, February 21st between 4:00 and 6:00 PM as we welcome Los Angeles-based artist\, activist\, and filmmaker Jill Goldman to celebrate the launch of her new monograph\, Disentanglement / Re-Embodiment. As well as signing copies\, Ms. Goldman will engage in what promises to be a lively discussion with noted independent filmmaker Nina Menkes. \nFrom the publisher: “Disentanglement / Re-Embodiment documents five years of bold\, deeply embodied work at the edge of art and politics. Developed between 2020 and 2025\, the work spans video\, performance\, photography\, installation\, and political research\, unfolding in a single\, cohesive publication that investigates how we live inside of – and push back against – patriarchal power and environmental crisis.  Its content centers on ten performance works\, staged internationally by Goldman and collaborators weaving over two hundred images of performance documentation\, film stills\, research ephemera\, and installation views. The book includes critical essays by Asti Hustvedt and Alex A. Jones\, as well as extracts from conversations between the artist and noted thinkers shaping contemporary feminist\, abolitionist\, eco-critical\, and anti-militarist discourse including Amy Ziering\, Yasmeen Hassan\, Sumaya Awad\, Catherine Coleman Flowers\, Nina Menkes\, Ruchira Gupta\, and Tanya Selvaratnam.” \nWe look forward to seeing you this Saturday for the opportunity to meet and greet Ms. Goldman – and to pick up a signed example of her engaging new book! If you cannot attend and would like to purchase a signed copy of Disentanglement / Re-Embodiment\, please place your order here! \n\n		\n	 \n \n	\n		\n			PURCHASE THE BOOK\n		\n	 \n \n\n \n	\n		\n		\n		\n	  \n	\n		\n		\n		\n	 \n \n	\n		\n			\nJill Goldman is an activist\, filmmaker\, and artist whose work incorporates dance\, performance\, photography\, and video. Her immersive multi-media installation / performances explore memory\, autobiography\, the gendered body\, and ritual transformation. She received her BA from Bennington College and her MFA from UCLA Film School. She is the director of the feature film Love Is Like That\, as well as many award-winning short films\, including fort / da\, Holding Margie’s Hand\, Sally Goes Shopping\, the music video for Lenny Kravitz’s “Blues for Sister Someone\,” and the short documentary Genevieve\, Girl Before the Mirror. \nNina Menkes is considered a cinematic feminist pioneer and one of America’s foremost independent filmmakers. She has shown widely in major international film festivals including multiple premieres at Sundance\, the Berlinale\, Cannes\, Rotterdam\, Locarno\, Toronto\, La Cinematheque Francaise\, British Film Institute\, the Whitney Museum of American Art\, and the New York Film Festival. Menkes has been called\, “brilliant\, one of the most provocative artists in film today” by the Los Angeles Times and her body of work was described as\, “controversial\, intense\, and visually stunning” by Sight and Sound. Menkes has referred to herself as a witch\, and Dennis Lim\, writing in the New York Times\, called her a “Cinematic Sorceress.”
URL:https://helmsdesigndistrict.com/event/book-signing-talk-with-filmmaker-jill-goldman/
LOCATION:Arcana: Books on the Arts\, 8675 Washington Blvd.\, Culver City\, CA\, 90232
CATEGORIES:News
ATTACH;FMTTYPE=image/jpeg:https://helmsdesigndistrict.com/wp-content/uploads/2026/02/Jill-Goldman_site_feature.jpg
GEO:34.0300679;-118.3835128
X-APPLE-STRUCTURED-LOCATION;VALUE=URI;X-ADDRESS=Arcana: Books on the Arts 8675 Washington Blvd. Culver City CA 90232;X-APPLE-RADIUS=500;X-TITLE=8675 Washington Blvd.:geo:-118.3835128,34.0300679
END:VEVENT
BEGIN:VEVENT
DTSTART;TZID=America/Los_Angeles:20260207T160000
DTEND;TZID=America/Los_Angeles:20260207T180000
DTSTAMP:20260420T033202
CREATED:20260203T215157Z
LAST-MODIFIED:20260206T174723Z
UID:10001999-1770480000-1770487200@helmsdesigndistrict.com
SUMMARY:Book Signing with Tom Sachs at Arcana Books
DESCRIPTION:Please join Arcana: Books on the Arts on Saturday\, February 7th between 4:00 and 6:00 PM as they welcome artist Tom Sachs to celebrate the release of his new Phaidon monograph\, Tom Sachs Guide. All are welcome; refreshments provided. \nFrom the publisher: “The definitive exploration of the prolific material\, intellectual\, cultural\, and commercial output of inimitable artist Tom Sachs. A 21st-century creative force\, Tom Sachs’s critically acclaimed practice spans sculpture\, installation\, painting\, film\, ceramics\, and industrial design. The Tom Sachs Guide is the most comprehensive-to-date look at his work\, documenting decades of rigorous and visionary artmaking. Vividly illustrated with more than 650 images and organized into thematic chapters\, the book includes work across mediums\, as well as longstanding collaborations with Nike and immersive reinterpretations of NASA missions. A rich appendix includes essential lists and charts\, offering insights into the artist’s creative process and studio practice. An object direct from the hands of the artist\, Tom Sachs Guide is a printed tour through his studio\, his body of work\, and the unique worlds he creates\, designed and written in close collaboration with Sachs himself.” \nPLEASE NOTE: Mr. Sachs will be signing copies of Guide at Arcana on Saturday\, February 7th. Books will begin shipping Tuesday\, February 10th. Due to a limited supply  orders of one copy only per customer will be honored. \n\n		\n	 \n \n	\n		\n			PURCHASE THE BOOK
URL:https://helmsdesigndistrict.com/event/book-signing-with-artist-tom-sachs-at-arcana-books/
LOCATION:Arcana: Books on the Arts\, 8675 Washington Blvd.\, Culver City\, CA\, 90232
CATEGORIES:News
ATTACH;FMTTYPE=image/png:https://helmsdesigndistrict.com/wp-content/uploads/2026/02/Tom_Sachs_Cover.png
GEO:34.0300679;-118.3835128
X-APPLE-STRUCTURED-LOCATION;VALUE=URI;X-ADDRESS=Arcana: Books on the Arts 8675 Washington Blvd. Culver City CA 90232;X-APPLE-RADIUS=500;X-TITLE=8675 Washington Blvd.:geo:-118.3835128,34.0300679
END:VEVENT
END:VCALENDAR