BEGIN:VCALENDAR
VERSION:2.0
PRODID:-//Helms Design District - ECPv6.15.18//NONSGML v1.0//EN
CALSCALE:GREGORIAN
METHOD:PUBLISH
X-ORIGINAL-URL:https://helmsdesigndistrict.com
X-WR-CALDESC:Events for Helms Design District
REFRESH-INTERVAL;VALUE=DURATION:PT1H
X-Robots-Tag:noindex
X-PUBLISHED-TTL:PT1H
BEGIN:VTIMEZONE
TZID:America/Los_Angeles
BEGIN:DAYLIGHT
TZOFFSETFROM:-0800
TZOFFSETTO:-0700
TZNAME:PDT
DTSTART:20220313T100000
END:DAYLIGHT
BEGIN:STANDARD
TZOFFSETFROM:-0700
TZOFFSETTO:-0800
TZNAME:PST
DTSTART:20221106T090000
END:STANDARD
BEGIN:DAYLIGHT
TZOFFSETFROM:-0800
TZOFFSETTO:-0700
TZNAME:PDT
DTSTART:20230312T100000
END:DAYLIGHT
BEGIN:STANDARD
TZOFFSETFROM:-0700
TZOFFSETTO:-0800
TZNAME:PST
DTSTART:20231105T090000
END:STANDARD
BEGIN:DAYLIGHT
TZOFFSETFROM:-0800
TZOFFSETTO:-0700
TZNAME:PDT
DTSTART:20240310T100000
END:DAYLIGHT
BEGIN:STANDARD
TZOFFSETFROM:-0700
TZOFFSETTO:-0800
TZNAME:PST
DTSTART:20241103T090000
END:STANDARD
END:VTIMEZONE
BEGIN:VEVENT
DTSTART;TZID=America/Los_Angeles:20230629T074500
DTEND;TZID=America/Los_Angeles:20230629T093000
DTSTAMP:20260420T072050
CREATED:20230531T223505Z
LAST-MODIFIED:20230619T184405Z
UID:10000541-1688024700-1688031000@helmsdesigndistrict.com
SUMMARY:Westside Urban Forum Breakfast Talk: Reviving Transit Ridership
DESCRIPTION:Reviving Transit Ridership\nThursday\, June 29th\, 2023 \nHelms Design Center\n8745 Washington Boulevard\, Culver City\n8:30 am – 9:30 am PST \nDoors open at 7:45 for registration\, breakfast and networking. \nRSVP Required!    \n\n		\n	 \n \n	\n		\n			Members Register Here\n		\n	  \n	\n		\n			Nonmembers Register Here\n		\n	 \n \n\n \n	\n		\n			\nLos Angeles County transit agencies are investing billions in new bus and rail infrastructure and services. Two new rail lines have opened on the Westside in the past ten years\, with more to come. However\, transit ridership is trending in the opposite direction. Ridership on the Los Angeles Metro system is down by approximately one third from pre-pandemic levels. Reasons include everything from work-from-home to increased crime and vagrancy\, reduced service hours\, and increased vehicle headways. And things could get even worse\, as decreased farebox recovery and expiring pandemic emergency funds apply even more pressure to reduce levels of service. If Angelenos avoid the train and bus\, opting for personal vehicles and Zoom\, what does that mean for Los Angeles? Regionwide goals for reducing pollution and increasing transit-oriented development\, walkability\, and housing production are all at stake. \nAt WUF this month\, LA Metro officials and transit advocates will survey the challenges facing Metro and other transit service providers. Join us for a panel discussion on ways to maintain transit service\, attract riders\, and make the most of the crucial infrastructure and civic amenity that the Los Angeles region needs. \nPanelists\nSteve Fiechter\, Sr.\, Director of Metro Services\, People Assisting the Homeless (PATH)\nDaniel Rodman\, Deputy Director Transportation\, Mayor Karen Bass’s Office\nPamela Krebs\, Executive Officer\, Los Angeles Metro\, Communications – Public Relations\nStephen Tu\, Sr. Director for Operations\, Los Angeles Metro \nModerator\nEli Lipmen\, Executive Director\, Move LA \nRegistration Fees \n$50 Members\n$65 Non-Members\n$10 Student Members & Retired Members\n$15 Student Non-Members & Retired Non-Members \nPre-registration closes on Wednesday\, June 28th\, at 4:00 PM. After Wednesday\, June 28th\, onsite registration will be available at the cost of an additional $10. No refunds or credits will be provided after this day. \nEvent Time \n7:45 am – 9:30 am\n7:45 am – Registration & Light Breakfast\n8:30 am – Panel Discussion \nLocation \nThe Helms Design Center is located at the Helms Bakery campus at 8745 Washington Boulevard in Culver City. \nDirections\nAvoid the stress of rush hour and skip traffic! The Helms Design Center at 8745 Washington Blvd in Culver City is conveniently located a short\, pleasant walk from a number of transit lines\, including: \n\nMetro Rail “E” (Expo) Line Culver City Station (1 block west at Washington and National Blvds)\, and\nCulver City Bus “1” and “1C1” lines (at the adjacent Washington Blvd/Helms Avenue street corner).\n\nProtected bike lanes along Washington Blvd. connecting to Culver City’s larger bike lane network also provide a convenient\, safe way to get to the Design Center. \nFor those who choose to drive\, parking is available in the adjacent interior parking garage at 8711 Washington Blvd (look for the red banners)\, or there is parking available throughout the Helms Bakery complex.\nParking Map \nSponsor Provided Tickets\nThanks to the generosity of our annual Sponsors\, WUF has a small number of free tickets available to members of the community.  If you are not able to join as a member or purchase a ticket for this month’s panel presentation\, but would like to join us\, please write us at info@westsideurbanforum.com to inquire if we have any remaining sponsor provided tickets. \nImage: CartoonLover66 via Wikimedia Commons (CC-BY-SA-4.0)
URL:https://helmsdesigndistrict.com/event/reviving-transit-ridership/
LOCATION:Helms Design Center\, 8745 Washington Boulevard\, Culver City\, CA\, 90232
CATEGORIES:News
ATTACH;FMTTYPE=image/jpeg:https://helmsdesigndistrict.com/wp-content/uploads/2023/05/800px-Los_Angeles_County_Metropolitan_Transportation_Authority_800px.jpg
GEO:34.0286594;-118.3857496
X-APPLE-STRUCTURED-LOCATION;VALUE=URI;X-ADDRESS=Helms Design Center 8745 Washington Boulevard Culver City CA 90232;X-APPLE-RADIUS=500;X-TITLE=8745 Washington Boulevard:geo:-118.3857496,34.0286594
END:VEVENT
END:VCALENDAR