BEGIN:VCALENDAR
VERSION:2.0
PRODID:-//Helms Design District - ECPv6.15.18//NONSGML v1.0//EN
CALSCALE:GREGORIAN
METHOD:PUBLISH
X-ORIGINAL-URL:https://helmsdesigndistrict.com
X-WR-CALDESC:Events for Helms Design District
REFRESH-INTERVAL;VALUE=DURATION:PT1H
X-Robots-Tag:noindex
X-PUBLISHED-TTL:PT1H
BEGIN:VTIMEZONE
TZID:America/Los_Angeles
BEGIN:DAYLIGHT
TZOFFSETFROM:-0800
TZOFFSETTO:-0700
TZNAME:PDT
DTSTART:20210314T100000
END:DAYLIGHT
BEGIN:STANDARD
TZOFFSETFROM:-0700
TZOFFSETTO:-0800
TZNAME:PST
DTSTART:20211107T090000
END:STANDARD
BEGIN:DAYLIGHT
TZOFFSETFROM:-0800
TZOFFSETTO:-0700
TZNAME:PDT
DTSTART:20220313T100000
END:DAYLIGHT
BEGIN:STANDARD
TZOFFSETFROM:-0700
TZOFFSETTO:-0800
TZNAME:PST
DTSTART:20221106T090000
END:STANDARD
BEGIN:DAYLIGHT
TZOFFSETFROM:-0800
TZOFFSETTO:-0700
TZNAME:PDT
DTSTART:20230312T100000
END:DAYLIGHT
BEGIN:STANDARD
TZOFFSETFROM:-0700
TZOFFSETTO:-0800
TZNAME:PST
DTSTART:20231105T090000
END:STANDARD
BEGIN:DAYLIGHT
TZOFFSETFROM:-0800
TZOFFSETTO:-0700
TZNAME:PDT
DTSTART:20240310T100000
END:DAYLIGHT
BEGIN:STANDARD
TZOFFSETFROM:-0700
TZOFFSETTO:-0800
TZNAME:PST
DTSTART:20241103T090000
END:STANDARD
END:VTIMEZONE
BEGIN:VEVENT
DTSTART;TZID=America/Los_Angeles:20230107T130000
DTEND;TZID=America/Los_Angeles:20230107T160000
DTSTAMP:20260423T221439
CREATED:20221227T214402Z
LAST-MODIFIED:20230106T201327Z
UID:10000361-1673096400-1673107200@helmsdesigndistrict.com
SUMMARY:Come to the Closing of the Art Exhibition in Support of TreePeople
DESCRIPTION:Trees need people. People need trees.\nOn Saturday\, January 7th from 1:00 to 4:00 PM\, please join us for the closing of the exhibition\, ALL ABOUT TREES inside the Washington Corridor Gallery. \nArtists from all over the country have come together to donate all or a portion of their work to help the organization TreePeople plant more trees\, steering Southern California to a more water-secure environment by harvesting rain and renewing depleted landscapes. \n40 SLMM (The Society of Layerists in Multi-Media) and 40 LA artists have contributed to this non-profit event to support greener and shadier neighborhoods. \nFREE Parking is located inside the interior garage at 8711 Washington Boulevard\, adjacent to the exhibition. \nIf you can’t be there Saturday\, please contact Rachel X at 310 850-8140 for an earlier appointment. \nExhibition Dates\nDecember 10\, 2022 through January 7\, 2023
URL:https://helmsdesigndistrict.com/event/art-closing-in-support-of-treepeople/
LOCATION:Washington Corridor Gallery\, 8723 Washington Boulevard\, Culver City\, CA\, 90232\, United States
CATEGORIES:News
ATTACH;FMTTYPE=image/jpeg:https://helmsdesigndistrict.com/wp-content/uploads/2022/11/All-About-Trees_Pic1.jpg
GEO:34.0315037;-118.3774661
X-APPLE-STRUCTURED-LOCATION;VALUE=URI;X-ADDRESS=Washington Corridor Gallery 8723 Washington Boulevard Culver City CA 90232 United States;X-APPLE-RADIUS=500;X-TITLE=8723 Washington Boulevard:geo:-118.3774661,34.0315037
END:VEVENT
BEGIN:VEVENT
DTSTART;TZID=America/Los_Angeles:20221210T130000
DTEND;TZID=America/Los_Angeles:20221210T180000
DTSTAMP:20260423T221439
CREATED:20221123T171530Z
LAST-MODIFIED:20221210T173049Z
UID:10000389-1670677200-1670695200@helmsdesigndistrict.com
SUMMARY:Art Opening in Support of TreePeople
DESCRIPTION:Trees need people. People need trees.\nOn Saturday\, December 10th from 1:00 to 6:00 PM\, please join us for the opening of the exhibition\, ALL ABOUT TREES inside the Washington Corridor Gallery. \nArtists from all over the country have come together to donate all or a portion of their work to help the organization TreePeople plant more trees\, steering Southern California to a more water-secure environment by harvesting rain and renewing depleted landscapes. \n40 SLMM (The Society of Layerists in Multi-Media) and 40 LA artists have contributed to this non-profit event to support greener and shadier neighborhoods. \nFREE Parking is located inside the interior garage at 8711 Washington Boulevard\, adjacent to the exhibition \nViewing the exhibition after the opening event is by appointment only. Please contact Rachel X at 310 850-8140. \nExhibition Dates\nDecember 10\, 2022 through January 7\, 2023
URL:https://helmsdesigndistrict.com/event/art-opening-in-support-of-treepeople/
LOCATION:Washington Corridor Gallery\, 8723 Washington Boulevard\, Culver City\, CA\, 90232\, United States
CATEGORIES:News
ATTACH;FMTTYPE=image/jpeg:https://helmsdesigndistrict.com/wp-content/uploads/2022/11/Tree-Opening_flyer_750x500_web.jpg
GEO:34.0315037;-118.3774661
X-APPLE-STRUCTURED-LOCATION;VALUE=URI;X-ADDRESS=Washington Corridor Gallery 8723 Washington Boulevard Culver City CA 90232 United States;X-APPLE-RADIUS=500;X-TITLE=8723 Washington Boulevard:geo:-118.3774661,34.0315037
END:VEVENT
END:VCALENDAR