BEGIN:VCALENDAR
VERSION:2.0
PRODID:-//Helms Design District - ECPv6.15.18//NONSGML v1.0//EN
CALSCALE:GREGORIAN
METHOD:PUBLISH
X-ORIGINAL-URL:https://helmsdesigndistrict.com
X-WR-CALDESC:Events for Helms Design District
REFRESH-INTERVAL;VALUE=DURATION:PT1H
X-Robots-Tag:noindex
X-PUBLISHED-TTL:PT1H
BEGIN:VTIMEZONE
TZID:America/Los_Angeles
BEGIN:DAYLIGHT
TZOFFSETFROM:-0800
TZOFFSETTO:-0700
TZNAME:PDT
DTSTART:20160313T100000
END:DAYLIGHT
BEGIN:STANDARD
TZOFFSETFROM:-0700
TZOFFSETTO:-0800
TZNAME:PST
DTSTART:20161106T090000
END:STANDARD
BEGIN:DAYLIGHT
TZOFFSETFROM:-0800
TZOFFSETTO:-0700
TZNAME:PDT
DTSTART:20170312T100000
END:DAYLIGHT
BEGIN:STANDARD
TZOFFSETFROM:-0700
TZOFFSETTO:-0800
TZNAME:PST
DTSTART:20171105T090000
END:STANDARD
BEGIN:DAYLIGHT
TZOFFSETFROM:-0800
TZOFFSETTO:-0700
TZNAME:PDT
DTSTART:20180311T100000
END:DAYLIGHT
BEGIN:STANDARD
TZOFFSETFROM:-0700
TZOFFSETTO:-0800
TZNAME:PST
DTSTART:20181104T090000
END:STANDARD
END:VTIMEZONE
BEGIN:VEVENT
DTSTART;TZID=America/Los_Angeles:20170407T160000
DTEND;TZID=America/Los_Angeles:20170408T183000
DTSTAMP:20260423T195954
CREATED:20170321T000622Z
LAST-MODIFIED:20170321T011457Z
UID:10000070-1491580800-1491676200@helmsdesigndistrict.com
SUMMARY:Unmentionables: LA's 1st Interior Architecture Symposium
DESCRIPTION:Over the past two decades\, Chu+Gooding have been honing their craft toward the mastery of the interior architectural experience. They have recommitted to their roots to create thoughtful and lasting architecture for those who dwell within it. A significant milestone in this twenty-year endeavor is the Unmentionables Symposium\, an inaugural 2-day event hosted by Woodbury University’s Interior Architecture Department\, where founding principal Annie Chu has taught for the past six years. \nUnmentionables is aimed at exploring new narratives for interior architecture and establishing a precedent for welcoming previously unmentioned ideas in spatial practice and theory. The symposium will serve as a provocation for marginalia\, taboos\, illicit ideas\, and undertheorized issues such as critical interiority and physical and virtual constructed environments. \nUnmentionables brings together a range of notable thinkers and designers drawn from literature\, architecture\, film\, art\, philosophy\, and interior design. Over the 2-day period\, the symposium will feature persistently critical voices from around the country. \nMore info\, full schedule\, and tickets available at UnmentionablesSymposium.com
URL:https://helmsdesigndistrict.com/event/unmentionables/
LOCATION:Helms Design Center\, 8745 Washington Boulevard\, Culver City\, CA\, 90232
CATEGORIES:News
ATTACH;FMTTYPE=image/jpeg:https://helmsdesigndistrict.com/wp-content/uploads/2015/04/unmentionables-poster.jpg
GEO:34.0286594;-118.3857496
X-APPLE-STRUCTURED-LOCATION;VALUE=URI;X-ADDRESS=Helms Design Center 8745 Washington Boulevard Culver City CA 90232;X-APPLE-RADIUS=500;X-TITLE=8745 Washington Boulevard:geo:-118.3857496,34.0286594
END:VEVENT
END:VCALENDAR