BEGIN:VCALENDAR
VERSION:2.0
PRODID:-//Helms Design District - ECPv6.15.18//NONSGML v1.0//EN
CALSCALE:GREGORIAN
METHOD:PUBLISH
X-WR-CALNAME:Helms Design District
X-ORIGINAL-URL:https://helmsdesigndistrict.com
X-WR-CALDESC:Events for Helms Design District
REFRESH-INTERVAL;VALUE=DURATION:PT1H
X-Robots-Tag:noindex
X-PUBLISHED-TTL:PT1H
BEGIN:VTIMEZONE
TZID:America/Los_Angeles
BEGIN:DAYLIGHT
TZOFFSETFROM:-0800
TZOFFSETTO:-0700
TZNAME:PDT
DTSTART:20150308T100000
END:DAYLIGHT
BEGIN:STANDARD
TZOFFSETFROM:-0700
TZOFFSETTO:-0800
TZNAME:PST
DTSTART:20151101T090000
END:STANDARD
BEGIN:DAYLIGHT
TZOFFSETFROM:-0800
TZOFFSETTO:-0700
TZNAME:PDT
DTSTART:20160313T100000
END:DAYLIGHT
BEGIN:STANDARD
TZOFFSETFROM:-0700
TZOFFSETTO:-0800
TZNAME:PST
DTSTART:20161106T090000
END:STANDARD
BEGIN:DAYLIGHT
TZOFFSETFROM:-0800
TZOFFSETTO:-0700
TZNAME:PDT
DTSTART:20170312T100000
END:DAYLIGHT
BEGIN:STANDARD
TZOFFSETFROM:-0700
TZOFFSETTO:-0800
TZNAME:PST
DTSTART:20171105T090000
END:STANDARD
BEGIN:DAYLIGHT
TZOFFSETFROM:-0800
TZOFFSETTO:-0700
TZNAME:PDT
DTSTART:20180311T100000
END:DAYLIGHT
BEGIN:STANDARD
TZOFFSETFROM:-0700
TZOFFSETTO:-0800
TZNAME:PST
DTSTART:20181104T090000
END:STANDARD
BEGIN:DAYLIGHT
TZOFFSETFROM:-0800
TZOFFSETTO:-0700
TZNAME:PDT
DTSTART:20190310T100000
END:DAYLIGHT
BEGIN:STANDARD
TZOFFSETFROM:-0700
TZOFFSETTO:-0800
TZNAME:PST
DTSTART:20191103T090000
END:STANDARD
BEGIN:DAYLIGHT
TZOFFSETFROM:-0800
TZOFFSETTO:-0700
TZNAME:PDT
DTSTART:20200308T100000
END:DAYLIGHT
BEGIN:STANDARD
TZOFFSETFROM:-0700
TZOFFSETTO:-0800
TZNAME:PST
DTSTART:20201101T090000
END:STANDARD
BEGIN:DAYLIGHT
TZOFFSETFROM:-0800
TZOFFSETTO:-0700
TZNAME:PDT
DTSTART:20210314T100000
END:DAYLIGHT
BEGIN:STANDARD
TZOFFSETFROM:-0700
TZOFFSETTO:-0800
TZNAME:PST
DTSTART:20211107T090000
END:STANDARD
END:VTIMEZONE
BEGIN:VEVENT
DTSTART;TZID=America/Los_Angeles:20200318T073000
DTEND;TZID=America/Los_Angeles:20200318T090000
DTSTAMP:20260423T221614
CREATED:20200309T162018Z
LAST-MODIFIED:20200313T195335Z
UID:10000384-1584516600-1584522000@helmsdesigndistrict.com
SUMMARY:POSTPONED - From Urban Shopping Mall to Tech Campus: The Creative Office Conversion of Westside Pavilion
DESCRIPTION:THIS EVENT HAS BEEN POSTPONED TO AN UNDETERMINED FUTURE DATE. \nOn Wednesday\, March 18th from 7:30 to 9:00 am\, please join us in welcoming Urban Land Institure for the ULI Los Angeles StimULI Breakfast discussion\, From Urban Shopping Mall to Tech Campus: The Creative Office Conversion of Westside Pavilion. \nAs big-box retail centers decline\, developers are finding creative ways to repurpose large blocks of space to accommodate a new era. In 2018\, a joint venture between Macerich and Hudson Pacific Properties announced plans to redevelop the declining Westside Pavilion into creative office space. The following year\, tech giant Google pre-leased the entirety of the office space totaling nearly 600\,000 square feet\, further expanding their Los Angeles footprint. \nThe panel will explore the first-of-its-kind conversion of urban mall to creative office\, providing insights into innovative adaptive reuse strategies. Additional topics will include the expansion of tech and media industries in Los Angeles and the resulting economic impact to the region. \nFOR TICKETS
URL:https://helmsdesigndistrict.com/event/from-urban-shopping-mall-to-tech-campus-the-creative-office-conversion-of-westside-pavilion/
LOCATION:Helms Design Center\, 8745 Washington Boulevard\, Culver City\, CA\, 90232
CATEGORIES:News
ATTACH;FMTTYPE=image/jpeg:https://helmsdesigndistrict.com/wp-content/uploads/2020/03/Westside-Pavilion-web.jpg
GEO:34.0286594;-118.3857496
X-APPLE-STRUCTURED-LOCATION;VALUE=URI;X-ADDRESS=Helms Design Center 8745 Washington Boulevard Culver City CA 90232;X-APPLE-RADIUS=500;X-TITLE=8745 Washington Boulevard:geo:-118.3857496,34.0286594
END:VEVENT
BEGIN:VEVENT
DTSTART;TZID=America/Los_Angeles:20161006T183000
DTEND;TZID=America/Los_Angeles:20161006T204500
DTSTAMP:20260423T221614
CREATED:20160930T231716Z
LAST-MODIFIED:20160930T231716Z
UID:10000119-1475778600-1475786700@helmsdesigndistrict.com
SUMMARY:Urban Land Institute's Young Leaders Take Over The Helms Design Center
DESCRIPTION:On Thursday\, October 6th from 6:30 – 8:45\, Urban Land Institute’s Young Leader Group takes over the Helms Design Center for “Shark Tank”. \nNimble\, flexible\, responsive. The small-scale developer is inherently entrepreneurial\, but that doesn’t always translate to easy access to capital. Financing small-scale development deals can be challenging due to smaller deal size and a sponsor’s limited track record. How do different capital sources assess the same opportunity? What gets their attention? What makes or breaks the funding decision? Listen in as a project sponsor pitches an actual deal to a panel of capital sources. To register\, please click here. \nPanelists:\n\nAllan S. Glass – President\, ASG Real Estate\nDavid Cacciapaglia – Managing Director\, Guggenheim Partners\nJeff Trenton – President\, Proficiency Capital LLC\nRyan Granito – Vice President of Real Estate\, Fundrise\nHoward Kozloff – Managing Partner\, Agora Partners\, Moderator\n\nRegistration:\n\nPrivate $35 (Non-Member $50)\nPublic/Nonprofit $30 (Nonmember $45)\nUnder 35 $25 (Non-Member $40)\nStudent $20 (Non-Member $30)\n\nPlease note that registration prices increase $10 after the registration deadline of October 4th. \nParking:\nFree valet parking is available in the interior parking garage at 8711 Washington Boulevard\, adjacent to the Helms Design Center. The Design Center is located one block east of the Culver City metro station. \nAbout Urban Land Institute\nAt the Urban Land Institute\, our mission is to provide leadership in the responsible use of land and in creating and sustaining thriving communities worldwide. ULI Los Angeles\, a district council of the Urban Land Institute\, carries forth that mission as the preeminent regional real estate organization providing inclusive and trusted leadership influencing public policy and practice.
URL:https://helmsdesigndistrict.com/event/urban-land-institutes-young-leaders-take-over-the-helms-design-center/
LOCATION:Helms Design Center\, 8745 Washington Boulevard\, Culver City\, CA\, 90232
CATEGORIES:News
ATTACH;FMTTYPE=image/gif:https://helmsdesigndistrict.com/wp-content/uploads/2016/09/ULI-Shark-Tank.gif
GEO:34.0286594;-118.3857496
X-APPLE-STRUCTURED-LOCATION;VALUE=URI;X-ADDRESS=Helms Design Center 8745 Washington Boulevard Culver City CA 90232;X-APPLE-RADIUS=500;X-TITLE=8745 Washington Boulevard:geo:-118.3857496,34.0286594
END:VEVENT
END:VCALENDAR