BEGIN:VCALENDAR
VERSION:2.0
PRODID:-//Helms Design District - ECPv6.15.18//NONSGML v1.0//EN
CALSCALE:GREGORIAN
METHOD:PUBLISH
X-ORIGINAL-URL:https://helmsdesigndistrict.com
X-WR-CALDESC:Events for Helms Design District
REFRESH-INTERVAL;VALUE=DURATION:PT1H
X-Robots-Tag:noindex
X-PUBLISHED-TTL:PT1H
BEGIN:VTIMEZONE
TZID:America/Los_Angeles
BEGIN:DAYLIGHT
TZOFFSETFROM:-0800
TZOFFSETTO:-0700
TZNAME:PDT
DTSTART:20150308T100000
END:DAYLIGHT
BEGIN:STANDARD
TZOFFSETFROM:-0700
TZOFFSETTO:-0800
TZNAME:PST
DTSTART:20151101T090000
END:STANDARD
BEGIN:DAYLIGHT
TZOFFSETFROM:-0800
TZOFFSETTO:-0700
TZNAME:PDT
DTSTART:20160313T100000
END:DAYLIGHT
BEGIN:STANDARD
TZOFFSETFROM:-0700
TZOFFSETTO:-0800
TZNAME:PST
DTSTART:20161106T090000
END:STANDARD
BEGIN:DAYLIGHT
TZOFFSETFROM:-0800
TZOFFSETTO:-0700
TZNAME:PDT
DTSTART:20170312T100000
END:DAYLIGHT
BEGIN:STANDARD
TZOFFSETFROM:-0700
TZOFFSETTO:-0800
TZNAME:PST
DTSTART:20171105T090000
END:STANDARD
END:VTIMEZONE
BEGIN:VEVENT
DTSTART;TZID=America/Los_Angeles:20161015T160000
DTEND;TZID=America/Los_Angeles:20161015T180000
DTSTAMP:20260423T221502
CREATED:20161013T192158Z
LAST-MODIFIED:20161013T194802Z
UID:10000126-1476547200-1476554400@helmsdesigndistrict.com
SUMMARY:Arcana Partners With LA Forum For Architecture And Verso Books For A Book Signing + Discussion
DESCRIPTION:Free\nOn Saturday\, October 15th from 4 to 6PM\, please join Arcana: Books on the Arts as they welcome The LA Forum for Architecture and Urban Design in partnership with Verso Books to present a conversation about the history of the US / Mexico border and the militarization of border walls around the world on the occasion of the launch of Reece Jones’ Violent Borders: Refugees and the Right to Move. Jones\, an expert on international border security projects and a geographer at the University of Hawaii\, will discuss his book with architect Rene Peralta. \nViolent Borders breaks down the contradictions of living in a globalized world that simultaneously attempts to limit the free movement of people. Jones travels the border regions of the world\, documenting the billions of dollars spent on border security projects\, and their dire consequences for the majority of the people in the world. While the poor are restricted by the lottery of birth to slums and the aftershocks of decolonization\, the wealthy travel freely\, exploiting pools of cheap labor and lax environmental regulations. \nThe US / Mexico border – a major focus of the book – is a perfect example of the global hardening of borders. Over the past thirty years\, many borders have been transformed into militarized security spaces through increased funding\, deployments of additional guards\, and construction of walls and surveillance infrastructure. While two-thirds of the border with Mexico remains unfenced\, the federal fences are products of the relatively recent 2006 Secure Fence Act\, and the Republican Presidential candidate Donald Trump’s call to build a wall on the remaining section of the border has been a major issue of the presidential election. Jones will make the case that borders are not the answer to our problems\, and end on a simple\, yet important idea: borders need not be a natural part of the human world. \nReece Jones is a Professor of Geography at the University of Hawaii in Manoa\, and the author of Border Walls\, published by Zed Books in 2013. He is an award-winning scholar whose work has been featured in Time Magazine\, The Economist\, and Vice who is often called on to comment on border crises by publications such as the New York Times. \nRene Peralta is the co-founder of the Tijuana-based architectural firm Generica as well as the Director of the Architecture\, Landscape + Urbanism program at the Woodbury University School of Architecture in San Diego. His recent work has been directed toward the research of social and cultural forms of urban border between the cities of Tijuana\, Mexico and San Diego\, California.
URL:https://helmsdesigndistrict.com/event/arcana-partners-with-la-forum-for-architecture-and-verso-books-for-a-book-signing-discussion/
LOCATION:Arcana: Books on the Arts\, 8675 Washington Blvd.\, Culver City\, CA\, 90232
CATEGORIES:News
ATTACH;FMTTYPE=image/gif:https://helmsdesigndistrict.com/wp-content/uploads/2016/10/Arcana-16.10.15.gif
GEO:34.0300679;-118.3835128
X-APPLE-STRUCTURED-LOCATION;VALUE=URI;X-ADDRESS=Arcana: Books on the Arts 8675 Washington Blvd. Culver City CA 90232;X-APPLE-RADIUS=500;X-TITLE=8675 Washington Blvd.:geo:-118.3835128,34.0300679
END:VEVENT
END:VCALENDAR