BEGIN:VCALENDAR
VERSION:2.0
PRODID:-//Helms Design District - ECPv6.15.18//NONSGML v1.0//EN
CALSCALE:GREGORIAN
METHOD:PUBLISH
X-ORIGINAL-URL:https://helmsdesigndistrict.com
X-WR-CALDESC:Events for Helms Design District
REFRESH-INTERVAL;VALUE=DURATION:PT1H
X-Robots-Tag:noindex
X-PUBLISHED-TTL:PT1H
BEGIN:VTIMEZONE
TZID:America/Los_Angeles
BEGIN:DAYLIGHT
TZOFFSETFROM:-0800
TZOFFSETTO:-0700
TZNAME:PDT
DTSTART:20160313T100000
END:DAYLIGHT
BEGIN:STANDARD
TZOFFSETFROM:-0700
TZOFFSETTO:-0800
TZNAME:PST
DTSTART:20161106T090000
END:STANDARD
BEGIN:DAYLIGHT
TZOFFSETFROM:-0800
TZOFFSETTO:-0700
TZNAME:PDT
DTSTART:20170312T100000
END:DAYLIGHT
BEGIN:STANDARD
TZOFFSETFROM:-0700
TZOFFSETTO:-0800
TZNAME:PST
DTSTART:20171105T090000
END:STANDARD
BEGIN:DAYLIGHT
TZOFFSETFROM:-0800
TZOFFSETTO:-0700
TZNAME:PDT
DTSTART:20180311T100000
END:DAYLIGHT
BEGIN:STANDARD
TZOFFSETFROM:-0700
TZOFFSETTO:-0800
TZNAME:PST
DTSTART:20181104T090000
END:STANDARD
END:VTIMEZONE
BEGIN:VEVENT
DTSTART;TZID=America/Los_Angeles:20170504T183000
DTEND;TZID=America/Los_Angeles:20170504T203000
DTSTAMP:20260423T221547
CREATED:20170426T210119Z
LAST-MODIFIED:20170427T164313Z
UID:10000159-1493922600-1493929800@helmsdesigndistrict.com
SUMMARY:Cal Poly LA Metro Program Hosts West of West at the Helms Design Center
DESCRIPTION:Free\nOn Thursday\, May 4th from 6:30 – 8:30 pm\, Helms Bakery District is pleased to present a reception\, lecture\, and discussion with JAI KUMARAN & CLAYTON TAYLOR of WEST OF WEST\, in collaboration with the Cal Poly LA Metro Program in Architecture and Urban Design. The evening will be introduced and moderated by Stephen Phillips\, AIA\, PhD\, Principal of Stephen Phillips Architects (SPARCHS) and professor\, director\, Cal Poly LA Metro Program in Architecture and Urban Design (California Polytechnic State University\, San Luis Obispo). \nThe event is FREE and Open to the Public. Please RSVP to calpolylametro@gmail.com. \nFree self-parking is available in the lots on Helms Avenue and Venice Boulevard.\n\n\nAbout the Architects: \nWest of West \nWest of West is an architecture and design studio founded by Jai Kumaran and Clayton Taylor in 2012\, formed in California and currently headquartered in Portland\, Oregon. Inspired by the explorative spirit of the American West\, the studio engages architecture and design to activate new frontiers of viewing\, framing\, and occupying the landscape. Each project is an opportunity to build a new reality by creating progressive spaces and shaping new experiences. West of West is dedicated to collaboration. With an emphasis on open dialogue\, we work alongside our clients to develop and realize projects while balancing the specific social\, economic\, and environmental conditions of every project with function\, beauty\, and opportunity. Since its inception\, the studio has completed multiple projects ranging from commercial and cultural to residential and product design in cities across the United States. \nJai Kumaran\, Associate AIA \nJai is a founding partner of W/W. He holds a Master of Architecture degree from the University of California\, Los Angeles\, and a Bachelor of Architecture degree from California Polytechnic State University\, San Luis Obispo. He has worked for multiple internationally recognized design firms\, most recently Morphosis Architects (Los Angeles). There\, he was a design leader on large scale urban developments including the Chinese University of Hong Kong and the Chengdu Financial Center\, among many others. He also was a member of the construction administration team for Emerson College\, Los Angeles\, a project which brought together student housing\, administrative offices\, and educational facilities on a dense urban site. The project has since won multiple design awards both nationally and internationally. Jai’s longstanding dedication to the craft and detail of architecture allows W/W to consistently execute the highest level of work possible. \nClayton Taylor\, AIA \nClayton is a founding partner of W/W. He holds a Master of Architecture degree from the University of California\, Los Angeles\, and a Bachelor of Architecture degree from California Polytechnic State University\, San Luis Obispo. Clayton has worked at a series of well-recognized Architectural Design firms including Coop Himmelblau in Vienna\, as a Project Designer at Morphosis Architects (Los Angeles)\, and most recently as an Associate at Rios Clementi Hale Studios in Hollywood. At RCHS\, Clayton led design efforts on many creative office and multi-family developments in the Los Angeles area including\, Columbia Square\, Crossroads of the World\, The Telephone Building\, and Flight at Tustin Legacy. He also completed many competitive design proposals for RCHS like the Rancho Cienega Sports Complex and the Southwest School of Art\, which won the AIA Next LA Honor Award in 2013. Clayton is a NCARB certified architect and licensed to practice in California and Oregon. \nPhotos (Left to Right):  Jai Kumaran & Clayton Taylor; Roadside Hotel; GLCO New York
URL:https://helmsdesigndistrict.com/event/cal-poly-la-metro-program-hosts-west-of-west-at-the-helms-design-center/
LOCATION:Helms Design Center\, 8745 Washington Boulevard\, Culver City\, CA\, 90232
CATEGORIES:News
ATTACH;FMTTYPE=image/jpeg:https://helmsdesigndistrict.com/wp-content/uploads/2017/04/west-of-west-800px.jpg
GEO:34.0286594;-118.3857496
X-APPLE-STRUCTURED-LOCATION;VALUE=URI;X-ADDRESS=Helms Design Center 8745 Washington Boulevard Culver City CA 90232;X-APPLE-RADIUS=500;X-TITLE=8745 Washington Boulevard:geo:-118.3857496,34.0286594
END:VEVENT
END:VCALENDAR