BEGIN:VCALENDAR
VERSION:2.0
PRODID:-//Helms Design District - ECPv6.15.18//NONSGML v1.0//EN
CALSCALE:GREGORIAN
METHOD:PUBLISH
X-ORIGINAL-URL:https://helmsdesigndistrict.com
X-WR-CALDESC:Events for Helms Design District
REFRESH-INTERVAL;VALUE=DURATION:PT1H
X-Robots-Tag:noindex
X-PUBLISHED-TTL:PT1H
BEGIN:VTIMEZONE
TZID:America/Los_Angeles
BEGIN:DAYLIGHT
TZOFFSETFROM:-0800
TZOFFSETTO:-0700
TZNAME:PDT
DTSTART:20190310T100000
END:DAYLIGHT
BEGIN:STANDARD
TZOFFSETFROM:-0700
TZOFFSETTO:-0800
TZNAME:PST
DTSTART:20191103T090000
END:STANDARD
BEGIN:DAYLIGHT
TZOFFSETFROM:-0800
TZOFFSETTO:-0700
TZNAME:PDT
DTSTART:20200308T100000
END:DAYLIGHT
BEGIN:STANDARD
TZOFFSETFROM:-0700
TZOFFSETTO:-0800
TZNAME:PST
DTSTART:20201101T090000
END:STANDARD
BEGIN:DAYLIGHT
TZOFFSETFROM:-0800
TZOFFSETTO:-0700
TZNAME:PDT
DTSTART:20210314T100000
END:DAYLIGHT
BEGIN:STANDARD
TZOFFSETFROM:-0700
TZOFFSETTO:-0800
TZNAME:PST
DTSTART:20211107T090000
END:STANDARD
END:VTIMEZONE
BEGIN:VEVENT
DTSTART;TZID=America/Los_Angeles:20200430T160000
DTEND;TZID=America/Los_Angeles:20200430T173000
DTSTAMP:20260424T002838
CREATED:20200426T194151Z
LAST-MODIFIED:20200426T224514Z
UID:10000388-1588262400-1588267800@helmsdesigndistrict.com
SUMMARY:A lecture and live Q+A discussion with Winka Dubbeldam
DESCRIPTION:Join us on Thursday\, April 30th\, for a lecture and live Q+A discussion with Winka Dubbeldam of Archi-Tectonics\nIn collaboration with the Cal Poly LA Metro Program in Architecture and Urban Design \nLecture is Free and Open to the Public \nRegister for the  Zoom Webinar\n\nWinka Dubbeldam is the founder and partner of the WBE certified New York firm Archi-Tectonics. Dubbeldam is widely known for her award-winning work\, recognized as much for its design excellence as for its use of smart building systems\, sustainable materials\, and innovative structures. Archi-Tectonics’ work is found in the USA\, Europe\, and Asia. Archi-Tectonics recently won the Asian Games 2022 Design Competition in Hangzhou China [2018]\, with a 16-acre park and 2 stadiums\, that is under construction to open in 2022. \nWinka Dubbeldam is also the Chair and Miller Professor of Architecture at the Weitzman School of Design and Director of the Advanced Research and Innovation [ARI] lab\, at the University of Pennsylvania\, where she has gathered an international network of innovative research and design professionals. She also previously taught at the graduate architecture programs at Columbia\, Cornell\, and Harvard University\, among other prestigious institutions. Currently Dubbeldam is the External Examiner of the Bartlett London and was named one of the DesignIntelligence 30 Most Admired Educators 2015. \nPublications include the three monographs Winka Dubbeldam\, Architect (010 Publishers\, Rotterdam\, 1996)\, AT-INdex (Princeton Press\, NYC\, 2006)\, and Archi-Tectonics (DAAB publishers\, 2010); a new book “Strange Objects” is planned for 2020 with Actar\, Spain. The work was also published in numerous international architecture and design periodicals. \n\nIntroduced and moderated by Stephen Phillips\, AIA\, PhD\, Principal of Stephen Phillips Architects (SPARCHS) and professor\, director\, Cal Poly LA Metro Program in Architecture and Urban Design (California Polytechnic State University\, San Luis Obispo) \ncalpolylametro.com \nPhotos (Left to Right): Image of Winka Dubbeldam; Render of Hangzhou Asian Game Park; Image of Hangzhou Asian Game Park.
URL:https://helmsdesigndistrict.com/event/winka-dubbeldam/
LOCATION:Zoom\, CA
CATEGORIES:News
ATTACH;FMTTYPE=image/jpeg:https://helmsdesigndistrict.com/wp-content/uploads/2020/04/winka_600px.jpg
END:VEVENT
END:VCALENDAR