BEGIN:VCALENDAR
VERSION:2.0
PRODID:-//Helms Design District - ECPv6.15.18//NONSGML v1.0//EN
CALSCALE:GREGORIAN
METHOD:PUBLISH
X-ORIGINAL-URL:https://helmsdesigndistrict.com
X-WR-CALDESC:Events for Helms Design District
REFRESH-INTERVAL;VALUE=DURATION:PT1H
X-Robots-Tag:noindex
X-PUBLISHED-TTL:PT1H
BEGIN:VTIMEZONE
TZID:America/Los_Angeles
BEGIN:DAYLIGHT
TZOFFSETFROM:-0800
TZOFFSETTO:-0700
TZNAME:PDT
DTSTART:20180311T100000
END:DAYLIGHT
BEGIN:STANDARD
TZOFFSETFROM:-0700
TZOFFSETTO:-0800
TZNAME:PST
DTSTART:20181104T090000
END:STANDARD
BEGIN:DAYLIGHT
TZOFFSETFROM:-0800
TZOFFSETTO:-0700
TZNAME:PDT
DTSTART:20190310T100000
END:DAYLIGHT
BEGIN:STANDARD
TZOFFSETFROM:-0700
TZOFFSETTO:-0800
TZNAME:PST
DTSTART:20191103T090000
END:STANDARD
BEGIN:DAYLIGHT
TZOFFSETFROM:-0800
TZOFFSETTO:-0700
TZNAME:PDT
DTSTART:20200308T100000
END:DAYLIGHT
BEGIN:STANDARD
TZOFFSETFROM:-0700
TZOFFSETTO:-0800
TZNAME:PST
DTSTART:20201101T090000
END:STANDARD
END:VTIMEZONE
BEGIN:VEVENT
DTSTART;TZID=America/Los_Angeles:20190606T190000
DTEND;TZID=America/Los_Angeles:20190606T210000
DTSTAMP:20260423T094300
CREATED:20190418T214827Z
LAST-MODIFIED:20190419T002231Z
UID:10000311-1559847600-1559854800@helmsdesigndistrict.com
SUMMARY:Women's MMA Art Exhibition Opens on June 6th
DESCRIPTION:Free\nOn Thursday\, June 6th from 7:00 to 9:00 pm\, please join us for the opening reception of WOMENʼS MMA- MIXED MEDIA ART 2019\, a five-artist exhibition that packs a punch. \nThis exhibition showcases various techniques and materials from five diverse perspectives; across sculpture\, painting\, collage\, ceramic and neon. \nShelley Heffler transforms found materials\, discarded vinyl advertising and textured acrylic strips to create woven sculpture\, twisting the traditions of feminine crafts with new contemporary forms. \nMarla Fields abstracts the human perception\, layered and obscured\, vibrant and vibrating. Her own vision echoing with the universal. Attempting to connect a disrupted narrative and depict the contradictions of a harmonious yet chaotic new world. \nKaoru Mansour’s delicate\, hyper-realistic\, organisms are suspended in planes of linear design and boundless space. We are given a macrocosmic and microscopic view simultaneously. \nSinan Revell reconfigures the works of male\, surrealist masters collaging female silhouettes on cut-out textures and landscapes. Her Nature Morte installation mixes ceramic with found seed pods. Pink bullets\, S&M postures and neon signage portray a glimpse in to the dystopian\nfuture. \nMika Revellʼs work confronts the viewer with an electrifying shock.
URL:https://helmsdesigndistrict.com/event/womens-mma-art-exhibition-opens-on-june-6th/
LOCATION:Helms Design Center\, 8745 Washington Boulevard\, Culver City\, CA\, 90232
CATEGORIES:News
ATTACH;FMTTYPE=image/jpeg:https://helmsdesigndistrict.com/wp-content/uploads/2019/04/MMA-front-postcard-no-crop.jpg
GEO:34.0286594;-118.3857496
X-APPLE-STRUCTURED-LOCATION;VALUE=URI;X-ADDRESS=Helms Design Center 8745 Washington Boulevard Culver City CA 90232;X-APPLE-RADIUS=500;X-TITLE=8745 Washington Boulevard:geo:-118.3857496,34.0286594
END:VEVENT
END:VCALENDAR