BEGIN:VCALENDAR
VERSION:2.0
PRODID:-//Helms Design District - ECPv6.15.18//NONSGML v1.0//EN
CALSCALE:GREGORIAN
METHOD:PUBLISH
X-ORIGINAL-URL:https://helmsdesigndistrict.com
X-WR-CALDESC:Events for Helms Design District
REFRESH-INTERVAL;VALUE=DURATION:PT1H
X-Robots-Tag:noindex
X-PUBLISHED-TTL:PT1H
BEGIN:VTIMEZONE
TZID:America/Los_Angeles
BEGIN:DAYLIGHT
TZOFFSETFROM:-0800
TZOFFSETTO:-0700
TZNAME:PDT
DTSTART:20160313T100000
END:DAYLIGHT
BEGIN:STANDARD
TZOFFSETFROM:-0700
TZOFFSETTO:-0800
TZNAME:PST
DTSTART:20161106T090000
END:STANDARD
BEGIN:DAYLIGHT
TZOFFSETFROM:-0800
TZOFFSETTO:-0700
TZNAME:PDT
DTSTART:20170312T100000
END:DAYLIGHT
BEGIN:STANDARD
TZOFFSETFROM:-0700
TZOFFSETTO:-0800
TZNAME:PST
DTSTART:20171105T090000
END:STANDARD
BEGIN:DAYLIGHT
TZOFFSETFROM:-0800
TZOFFSETTO:-0700
TZNAME:PDT
DTSTART:20180311T100000
END:DAYLIGHT
BEGIN:STANDARD
TZOFFSETFROM:-0700
TZOFFSETTO:-0800
TZNAME:PST
DTSTART:20181104T090000
END:STANDARD
END:VTIMEZONE
BEGIN:VEVENT
DTSTART;TZID=America/Los_Angeles:20170203T180000
DTEND;TZID=America/Los_Angeles:20170203T200000
DTSTAMP:20260424T003735
CREATED:20170201T201446Z
LAST-MODIFIED:20170201T201446Z
UID:10000154-1486144800-1486152000@helmsdesigndistrict.com
SUMMARY:Woodbury College Hosts a Discussion on Womanhouse and WomEnhouse: A 20-Year Perspective on Feminism and Architecture
DESCRIPTION:Free\n45 years ago\, from January 30 to February 28\, 1972\, Judy Chicago and Miriam Schapiro organized a feminist art installation and performance space called Womanhouse\, located in an abandoned Victorian house near CalArts. 20 years ago a group of 24 female artists\, architects\, poets\, art historians\, and cultural theorists derived inspiration from Womanhouse in their design of a collaborative\, multi-authored website that explores the politics of domesticity and gender relations through virtual “rooms” and conceptual domestic “spaces.” WomEnhouse proposed that\, just as the domestic sphere is no longer separated from the public world of capital\, so too the “feminine” (and feminism) must expand into a cyberpolitics that addresses the multivalent vicissitudes of identity formation and domesticity at the turn of the millennium. \nFounding members of WomEnhouse\, Annie Chu\, Christina Magar\, and Pat Morton\, will discuss the past\, present\, and future of the ideological and symbolic conflation of women and houses through the formative lens of this groundbreaking website. With an estimated 750\,000 people attending the Los Angeles Women’s March on January 21\, 2017\, and recent publications concerning the absence of women in architecture\, questions surrounding female bodies in public space are as relevant to address on February 3\, 2017 as they were on January 30\, 1972. Come and participate in this timely discussion! \nSeating is limited\, so please RSVP here. Free Valet parking is available in the lot located at Venice Boulevard and Helms Avenue. \nYou can read more about the event here!https://woodbury.edu/womanhouse-and-womenhouse/
URL:https://helmsdesigndistrict.com/event/woodbury-college-hosts-a-discussion-on-womanhouse-and-womenhouse-a-20-year-perspective-on-feminism-and-architecture/
LOCATION:Helms Design Center\, 8745 Washington Boulevard\, Culver City\, CA\, 90232
CATEGORIES:News
ATTACH;FMTTYPE=image/gif:https://helmsdesigndistrict.com/wp-content/uploads/2017/02/Woodbury-17.02.03.gif
GEO:34.0286594;-118.3857496
X-APPLE-STRUCTURED-LOCATION;VALUE=URI;X-ADDRESS=Helms Design Center 8745 Washington Boulevard Culver City CA 90232;X-APPLE-RADIUS=500;X-TITLE=8745 Washington Boulevard:geo:-118.3857496,34.0286594
END:VEVENT
END:VCALENDAR