BEGIN:VCALENDAR
VERSION:2.0
PRODID:-//Helms Design District - ECPv6.15.18//NONSGML v1.0//EN
CALSCALE:GREGORIAN
METHOD:PUBLISH
X-WR-CALNAME:Helms Design District
X-ORIGINAL-URL:https://helmsdesigndistrict.com
X-WR-CALDESC:Events for Helms Design District
REFRESH-INTERVAL;VALUE=DURATION:PT1H
X-Robots-Tag:noindex
X-PUBLISHED-TTL:PT1H
BEGIN:VTIMEZONE
TZID:America/Los_Angeles
BEGIN:DAYLIGHT
TZOFFSETFROM:-0800
TZOFFSETTO:-0700
TZNAME:PDT
DTSTART:20210314T100000
END:DAYLIGHT
BEGIN:STANDARD
TZOFFSETFROM:-0700
TZOFFSETTO:-0800
TZNAME:PST
DTSTART:20211107T090000
END:STANDARD
BEGIN:DAYLIGHT
TZOFFSETFROM:-0800
TZOFFSETTO:-0700
TZNAME:PDT
DTSTART:20220313T100000
END:DAYLIGHT
BEGIN:STANDARD
TZOFFSETFROM:-0700
TZOFFSETTO:-0800
TZNAME:PST
DTSTART:20221106T090000
END:STANDARD
BEGIN:DAYLIGHT
TZOFFSETFROM:-0800
TZOFFSETTO:-0700
TZNAME:PDT
DTSTART:20230312T100000
END:DAYLIGHT
BEGIN:STANDARD
TZOFFSETFROM:-0700
TZOFFSETTO:-0800
TZNAME:PST
DTSTART:20231105T090000
END:STANDARD
END:VTIMEZONE
BEGIN:VEVENT
DTSTART;TZID=America/Los_Angeles:20220414T183000
DTEND;TZID=America/Los_Angeles:20220414T203000
DTSTAMP:20260423T192842
CREATED:20220413T171921Z
LAST-MODIFIED:20220413T233904Z
UID:10000466-1649961000-1649968200@helmsdesigndistrict.com
SUMMARY:Architecture\, Not Architecture: A reception\, lecture\, and discussion with Alice Kimm and John Friedman\, JFAK
DESCRIPTION:Join us on Thursday\, April 14th\, 6:30-8:30 pm\, for a reception\, lecture\, and discussion with Alice Kimm and John Friedman\, JFAK\nArchitecture\, Not Architecture\nIn collaboration with the Helms Bakery District and the Cal Poly SLO LA Metro Program in Architecture and Urban Design \nHELMS DESIGN CENTER        \n8745 Washington Blvd.\, Culver City\, CA 90232 \nFree Parking is available at the corner of Helms Ave. and Venice Blvd. \nLecture is Free and Open to the Public \nRSVP\n\nAlice Kimm and John Friedman \nJohn Friedman Alice Kimm Architects (JFAK) was founded in 1996 and is based in Boyle Heights. \nWith the belief that architecture has the power to uplift people’s lives\, John and Alice have spent the past two and a half decades creating buildings and environments that celebrate identity and joyful places that inspire. The firm’s work spans residential\, commercial and creative offices\, public spaces\, K-12 and higher education\, athletics and recreation\, and science / innovation centers. JFAK recently commenced work on two public middle/high school projects focused on providing equal access to cutting-edge education – the Iovine and Young Center in Leimert Park\, and the Russell Westbrook Why Not? Academy Middle and High Schools in South Gate. \nIn 2020 with like-minded collaborators\, John and Alice founded Open Source Homelessness Initiative (OSHI)\, a nonprofit that mines open data to accelerate innovations to eradicate homelessness. OSHI was recently named a winner of Metropolis’s Responsible Disruptors awards program. \nJFAK’s first book will be published by Actar. It will highlight a range of the firm’s projects along with the inspirations and passions that shaped them. John and Alice were named Emerging Voices by The Architectural League of New York and are elected Fellows of the American Institute of Architects. They live in Silverlake and have three children. \n\nIntroduced and moderated by Stephen Phillips\, AIA\, PhD\, Principal of Stephen Phillips Architects (SPARCHS) and professor\, director\, Cal Poly LA Metro Program in Architecture and Urban Design (California Polytechnic State University\, San Luis Obispo). \nPhotos (Left to Right): Alice Kimm\, John Friedman\, Claremont McKenna College Roberts Pavilion
URL:https://helmsdesigndistrict.com/event/jfak/
LOCATION:Helms Design Center\, 8745 Washington Boulevard\, Culver City\, CA\, 90232
CATEGORIES:News
ATTACH;FMTTYPE=image/jpeg:https://helmsdesigndistrict.com/wp-content/uploads/2022/04/JFAK_1000px.jpg
GEO:34.0286594;-118.3857496
X-APPLE-STRUCTURED-LOCATION;VALUE=URI;X-ADDRESS=Helms Design Center 8745 Washington Boulevard Culver City CA 90232;X-APPLE-RADIUS=500;X-TITLE=8745 Washington Boulevard:geo:-118.3857496,34.0286594
END:VEVENT
BEGIN:VEVENT
DTSTART;TZID=America/Los_Angeles:20220331T183000
DTEND;TZID=America/Los_Angeles:20220331T203000
DTSTAMP:20260423T192842
CREATED:20220316T211548Z
LAST-MODIFIED:20220317T152958Z
UID:10000468-1648751400-1648758600@helmsdesigndistrict.com
SUMMARY:A reception\, lecture\, and discussion with Daniel López-Pérez: R. Buckminster Fuller\, Pattern-Thinking
DESCRIPTION:Join us on Thursday\, March 31st\, 6:30-8:30 pm for a reception\, lecture\, and discussion with Daniel López-Pérez\nR. Buckminster Fuller\, Pattern-Thinking\nIn collaboration with the Helms Bakery District and the Cal Poly SLO LA Metro Program in Architecture and Urban Design \nHELMS DESIGN CENTER        \n8745 Washington Blvd.\, Culver City\, CA 90232 \nFree Parking is available at the corner of Helms Ave. and Venice Blvd. \nLecture is Free and Open to the Public \nRSVP\n\nDaniel López-Pérez \nDaniel López-Pérez (b. Madrid\, 1973) is an Associate Professor of Architecture and a founding faculty member of the Architecture Program at the University of San Diego. He holds a Ph.D. from Princeton University\, a Masters of Advanced Architectural Design from Columbia University with honors\, and an AA Diploma from the Architectural Association. \nLópez-Pérez’s scholarship focuses on the historiography of modern architecture and its relationship to questions of technology\, design-research\, models of design pedagogy\, material and environmental culture. He is the recipient of numerous research\, publication grants and awards including the Graham Foundation\, Mexico’s National Council for Culture and Arts (CONACULTA)\, Princeton University’s Barr Ferree Foundation\, and a University of San Diego’s Faculty Undergraduate Research Mentor Award. \nHis work has been exhibited and presented nationally and internationally at institutions such as the University of Southern California; University of California\, Los Angeles; Harvard’s Graduate School of Design; Storefront\, New York; Canadian Center for Architecture\, Montreal; Museo Tamayo\, Mexico City; Tec de Monterrey\, Campus Guadalajara; the Venice Biennale; the University of Applied Sciences\, Bochum; Bauhaus-Universität\, Weimar; Alvar Aalto University Jyvaskyla\, Finland; and Busan National University\, South Korea. \n\nIntroduced and moderated by Stephen Phillips\, AIA\, PhD\, Principal of Stephen Phillips Architects (SPARCHS) and professor\, director\, Cal Poly LA Metro Program in Architecture and Urban Design (California Polytechnic State University\, San Luis Obispo) and Jimenez Lai\, Principal of Bureau Spectacular and faculty\, Cal Poly LA Metro Program in Architecture and Urban Design (California Polytechnic State University\, San Luis Obispo) \nPhotos (Left to Right): Image of R. Buckminster Fuller\, Pattern-Thinking\, Image of Daniel López-Pérez\, Images from R. Buckminster Fuller\, Pattern-Thinking.
URL:https://helmsdesigndistrict.com/event/daniel-lopez-perez/
LOCATION:Helms Design Center\, 8745 Washington Boulevard\, Culver City\, CA\, 90232
CATEGORIES:News
ATTACH;FMTTYPE=image/jpeg:https://helmsdesigndistrict.com/wp-content/uploads/2022/03/Daniel-Lopez-Perez_1200px.jpg
GEO:34.0286594;-118.3857496
X-APPLE-STRUCTURED-LOCATION;VALUE=URI;X-ADDRESS=Helms Design Center 8745 Washington Boulevard Culver City CA 90232;X-APPLE-RADIUS=500;X-TITLE=8745 Washington Boulevard:geo:-118.3857496,34.0286594
END:VEVENT
BEGIN:VEVENT
DTSTART;TZID=America/Los_Angeles:20220224T183000
DTEND;TZID=America/Los_Angeles:20220224T203000
DTSTAMP:20260423T192842
CREATED:20220219T202217Z
LAST-MODIFIED:20220219T221127Z
UID:10000304-1645727400-1645734600@helmsdesigndistrict.com
SUMMARY:Distant Crowds: A reception\, lecture\, and discussion with Lara Lesmes and Fredrik Hellberg
DESCRIPTION:Join us on Thursday\, February 24th\, 6:30-8:30 pm for a reception\, lecture\, and discussion with Lara Lesmes and Fredrik Hellberg\, Space Popular\nDistant Crowds\nIn collaboration with the Helms Bakery District and the Cal Poly SLO LA Metro Program in Architecture and Urban Design \nHELMS DESIGN CENTER        \n8745 Washington Blvd.\, Culver City\, CA 90232 \nFree Parking is available at the corner of Helms Ave. and Venice Blvd. \nLecture is Free and Open to the Public \nRSVP\n\nLara Lesmes and Fredrik Hellberg \nSpace Popular is directed by Lara Lesmes and Fredrik Hellberg\, both alumni of the Architectural Association in London (2011). They founded the practice in Bangkok (2013) and have been based in London and Spain since 2016. Space Popular creates spaces\, objects\, and events in both physical and virtual space\, concentrating on how the two realms can blend together. The studio has completed buildings\, exhibitions\, public artworks\, furniture collections\, and interiors across Asia and Europe\, as well as virtual architecture for the immersive internet. Clients\, collaborators\, and commissioners include national institutions such as MAXXI – National Museum of 21st Century Art\, Rome\, Italy; The Swedish Centre for Architecture and Design –ArkDes\, Stockholm\, Sweden; Royal Institute of British Architects\, London\, UK; National Museum of Modern and Contemporary Art\, Seoul\, South Korea; as well as independent galleries such as MAGAZIN\, Vienna\, Austria; and Sto Werkstatt\, London\, UK. \nLesmes and Hellberg both have extensive academic experience having taught architectural design studio since 2011\, first at INDA\, Chulalongkorn University in Bangkok from 2011 to 2016\, at the Architectural Association in London from 2016 to 2021\, and currently at Daniels\, Faculty of Architecture\, University of Toronto since 2020\, and UCLA Architecture and Urban Design since 2022. Their current MArch design and research studios both at Daniels and UCLA investigates visions for civic architecture in the immersive internet. \n\nIntroduced and moderated by Stephen Phillips\, AIA\, PhD\, Principal of Stephen Phillips Architects (SPARCHS) and professor\, director\, Cal Poly LA Metro Program in Architecture and Urban Design (California Polytechnic State University\, San Luis Obispo) and Jimenez Lai\, Principal of Bureau Spectacular and faculty\, Cal Poly LA Metro Program in Architecture and Urban Design (California Polytechnic State University\, San Luis Obispo) \nPhotos (Left to Right): Image of Lara Lesmes\, Image of Arquia Proxima\, 2020\, Image of Fredrik Hellberg.
URL:https://helmsdesigndistrict.com/event/space-popular/
LOCATION:Helms Design Center\, 8745 Washington Boulevard\, Culver City\, CA\, 90232
CATEGORIES:News
ATTACH;FMTTYPE=image/jpeg:https://helmsdesigndistrict.com/wp-content/uploads/2022/02/Space-Popular-Publicity_1200px.jpg
GEO:34.0286594;-118.3857496
X-APPLE-STRUCTURED-LOCATION;VALUE=URI;X-ADDRESS=Helms Design Center 8745 Washington Boulevard Culver City CA 90232;X-APPLE-RADIUS=500;X-TITLE=8745 Washington Boulevard:geo:-118.3857496,34.0286594
END:VEVENT
END:VCALENDAR