BEGIN:VCALENDAR
VERSION:2.0
PRODID:-//Helms Design District - ECPv6.15.18//NONSGML v1.0//EN
CALSCALE:GREGORIAN
METHOD:PUBLISH
X-ORIGINAL-URL:https://helmsdesigndistrict.com
X-WR-CALDESC:Events for Helms Design District
REFRESH-INTERVAL;VALUE=DURATION:PT1H
X-Robots-Tag:noindex
X-PUBLISHED-TTL:PT1H
BEGIN:VTIMEZONE
TZID:America/Los_Angeles
BEGIN:DAYLIGHT
TZOFFSETFROM:-0800
TZOFFSETTO:-0700
TZNAME:PDT
DTSTART:20140309T100000
END:DAYLIGHT
BEGIN:STANDARD
TZOFFSETFROM:-0700
TZOFFSETTO:-0800
TZNAME:PST
DTSTART:20141102T090000
END:STANDARD
BEGIN:DAYLIGHT
TZOFFSETFROM:-0800
TZOFFSETTO:-0700
TZNAME:PDT
DTSTART:20150308T100000
END:DAYLIGHT
BEGIN:STANDARD
TZOFFSETFROM:-0700
TZOFFSETTO:-0800
TZNAME:PST
DTSTART:20151101T090000
END:STANDARD
BEGIN:DAYLIGHT
TZOFFSETFROM:-0800
TZOFFSETTO:-0700
TZNAME:PDT
DTSTART:20160313T100000
END:DAYLIGHT
BEGIN:STANDARD
TZOFFSETFROM:-0700
TZOFFSETTO:-0800
TZNAME:PST
DTSTART:20161106T090000
END:STANDARD
END:VTIMEZONE
BEGIN:VEVENT
DTSTART;TZID=America/Los_Angeles:20151107T100000
DTEND;TZID=America/Los_Angeles:20151108T180000
DTSTAMP:20260423T230628
CREATED:20151104T211240Z
LAST-MODIFIED:20151104T211240Z
UID:10000079-1446890400-1447005600@helmsdesigndistrict.com
SUMMARY:Pop Over To Boom For Their Big Moving Sale
DESCRIPTION:For those friends of Helms Bakery who “remember when” Helms Avenue was a drive through street from Venice to Washington\, you’ll also remember a great little accessory\, jewelry and home furnishings shop by the name of Boom. While Boom moved from Helms in 2008 and took up residence just down the street\, we still remain friendly neighbors. \nFrom Saturday\, November 7th through Sunday\, November 8th from 10:00am – 6:00pm\, pop over to 8575 Washington Boulevard for Boom’s Big Moving Sale. Enjoy 50% – 80% off home accessories\, accent furniture and the current inventory on AllModern and Houzz. \nIt’s a great chance to start your holiday shopping!
URL:https://helmsdesigndistrict.com/event/pop-over-to-boom-for-their-big-moving-sale/
LOCATION:Boom\, 8575 Washington Boulevard\, Culver City\, CA\, 90232\, United States
CATEGORIES:News
ATTACH;FMTTYPE=image/jpeg:https://helmsdesigndistrict.com/wp-content/uploads/2015/04/Boom-Logo.jpg
GEO:34.0307419;-118.381174
X-APPLE-STRUCTURED-LOCATION;VALUE=URI;X-ADDRESS=Boom 8575 Washington Boulevard Culver City CA 90232 United States;X-APPLE-RADIUS=500;X-TITLE=8575 Washington Boulevard:geo:-118.381174,34.0307419
END:VEVENT
END:VCALENDAR