BEGIN:VCALENDAR
VERSION:2.0
PRODID:-//Helms Design District - ECPv6.15.18//NONSGML v1.0//EN
CALSCALE:GREGORIAN
METHOD:PUBLISH
X-ORIGINAL-URL:https://helmsdesigndistrict.com
X-WR-CALDESC:Events for Helms Design District
REFRESH-INTERVAL;VALUE=DURATION:PT1H
X-Robots-Tag:noindex
X-PUBLISHED-TTL:PT1H
BEGIN:VTIMEZONE
TZID:America/Los_Angeles
BEGIN:DAYLIGHT
TZOFFSETFROM:-0800
TZOFFSETTO:-0700
TZNAME:PDT
DTSTART:20140309T100000
END:DAYLIGHT
BEGIN:STANDARD
TZOFFSETFROM:-0700
TZOFFSETTO:-0800
TZNAME:PST
DTSTART:20141102T090000
END:STANDARD
BEGIN:DAYLIGHT
TZOFFSETFROM:-0800
TZOFFSETTO:-0700
TZNAME:PDT
DTSTART:20150308T100000
END:DAYLIGHT
BEGIN:STANDARD
TZOFFSETFROM:-0700
TZOFFSETTO:-0800
TZNAME:PST
DTSTART:20151101T090000
END:STANDARD
BEGIN:DAYLIGHT
TZOFFSETFROM:-0800
TZOFFSETTO:-0700
TZNAME:PDT
DTSTART:20160313T100000
END:DAYLIGHT
BEGIN:STANDARD
TZOFFSETFROM:-0700
TZOFFSETTO:-0800
TZNAME:PST
DTSTART:20161106T090000
END:STANDARD
END:VTIMEZONE
BEGIN:VEVENT
DTSTART;TZID=America/Los_Angeles:20151105T090000
DTEND;TZID=America/Los_Angeles:20151107T170000
DTSTAMP:20260423T231240
CREATED:20151106T004408Z
LAST-MODIFIED:20151106T004408Z
UID:10000080-1446714000-1446915600@helmsdesigndistrict.com
SUMMARY:Carl Hansen & Søn Hosts A Floor Sample Sale
DESCRIPTION:Please join Carl Hansen & Søn for an amazing floor sample sale! \nBeginning Thursday\, November 5th through Saturday\, November 7th from 9:00am – 5:00pm\, many of the iconic furniture pieces inside their Los Angeles and New York showrooms will be up to 70% off their regular pricing. \nAll major credit cards are accepted and beverages will be served.
URL:https://helmsdesigndistrict.com/event/carl-hansen-son-hosts-a-floor-sample-sale/
LOCATION:Carl Hansen & Søn\, 8745 Washington Boulevard\, Culver City\, CA\, 90232\, United States
CATEGORIES:News
ATTACH;FMTTYPE=image/png:https://helmsdesigndistrict.com/wp-content/uploads/2015/04/CHS-SAMPLE-SALE-INVITE-2015.png
GEO:34.0286596;-118.3857498
X-APPLE-STRUCTURED-LOCATION;VALUE=URI;X-ADDRESS=Carl Hansen & Søn 8745 Washington Boulevard Culver City CA 90232 United States;X-APPLE-RADIUS=500;X-TITLE=8745 Washington Boulevard:geo:-118.3857498,34.0286596
END:VEVENT
END:VCALENDAR