BEGIN:VCALENDAR
VERSION:2.0
PRODID:-//Helms Design District - ECPv6.15.18//NONSGML v1.0//EN
CALSCALE:GREGORIAN
METHOD:PUBLISH
X-WR-CALNAME:Helms Design District
X-ORIGINAL-URL:https://helmsdesigndistrict.com
X-WR-CALDESC:Events for Helms Design District
REFRESH-INTERVAL;VALUE=DURATION:PT1H
X-Robots-Tag:noindex
X-PUBLISHED-TTL:PT1H
BEGIN:VTIMEZONE
TZID:America/Los_Angeles
BEGIN:DAYLIGHT
TZOFFSETFROM:-0800
TZOFFSETTO:-0700
TZNAME:PDT
DTSTART:20150308T100000
END:DAYLIGHT
BEGIN:STANDARD
TZOFFSETFROM:-0700
TZOFFSETTO:-0800
TZNAME:PST
DTSTART:20151101T090000
END:STANDARD
BEGIN:DAYLIGHT
TZOFFSETFROM:-0800
TZOFFSETTO:-0700
TZNAME:PDT
DTSTART:20160313T100000
END:DAYLIGHT
BEGIN:STANDARD
TZOFFSETFROM:-0700
TZOFFSETTO:-0800
TZNAME:PST
DTSTART:20161106T090000
END:STANDARD
BEGIN:DAYLIGHT
TZOFFSETFROM:-0800
TZOFFSETTO:-0700
TZNAME:PDT
DTSTART:20170312T100000
END:DAYLIGHT
BEGIN:STANDARD
TZOFFSETFROM:-0700
TZOFFSETTO:-0800
TZNAME:PST
DTSTART:20171105T090000
END:STANDARD
BEGIN:DAYLIGHT
TZOFFSETFROM:-0800
TZOFFSETTO:-0700
TZNAME:PDT
DTSTART:20180311T100000
END:DAYLIGHT
BEGIN:STANDARD
TZOFFSETFROM:-0700
TZOFFSETTO:-0800
TZNAME:PST
DTSTART:20181104T090000
END:STANDARD
BEGIN:DAYLIGHT
TZOFFSETFROM:-0800
TZOFFSETTO:-0700
TZNAME:PDT
DTSTART:20190310T100000
END:DAYLIGHT
BEGIN:STANDARD
TZOFFSETFROM:-0700
TZOFFSETTO:-0800
TZNAME:PST
DTSTART:20191103T090000
END:STANDARD
BEGIN:DAYLIGHT
TZOFFSETFROM:-0800
TZOFFSETTO:-0700
TZNAME:PDT
DTSTART:20200308T100000
END:DAYLIGHT
BEGIN:STANDARD
TZOFFSETFROM:-0700
TZOFFSETTO:-0800
TZNAME:PST
DTSTART:20201101T090000
END:STANDARD
BEGIN:DAYLIGHT
TZOFFSETFROM:-0800
TZOFFSETTO:-0700
TZNAME:PDT
DTSTART:20210314T100000
END:DAYLIGHT
BEGIN:STANDARD
TZOFFSETFROM:-0700
TZOFFSETTO:-0800
TZNAME:PST
DTSTART:20211107T090000
END:STANDARD
BEGIN:DAYLIGHT
TZOFFSETFROM:-0800
TZOFFSETTO:-0700
TZNAME:PDT
DTSTART:20220313T100000
END:DAYLIGHT
BEGIN:STANDARD
TZOFFSETFROM:-0700
TZOFFSETTO:-0800
TZNAME:PST
DTSTART:20221106T090000
END:STANDARD
BEGIN:DAYLIGHT
TZOFFSETFROM:-0800
TZOFFSETTO:-0700
TZNAME:PDT
DTSTART:20230312T100000
END:DAYLIGHT
BEGIN:STANDARD
TZOFFSETFROM:-0700
TZOFFSETTO:-0800
TZNAME:PST
DTSTART:20231105T090000
END:STANDARD
BEGIN:DAYLIGHT
TZOFFSETFROM:-0800
TZOFFSETTO:-0700
TZNAME:PDT
DTSTART:20240310T100000
END:DAYLIGHT
BEGIN:STANDARD
TZOFFSETFROM:-0700
TZOFFSETTO:-0800
TZNAME:PST
DTSTART:20241103T090000
END:STANDARD
BEGIN:DAYLIGHT
TZOFFSETFROM:-0800
TZOFFSETTO:-0700
TZNAME:PDT
DTSTART:20250309T100000
END:DAYLIGHT
BEGIN:STANDARD
TZOFFSETFROM:-0700
TZOFFSETTO:-0800
TZNAME:PST
DTSTART:20251102T090000
END:STANDARD
END:VTIMEZONE
BEGIN:VEVENT
DTSTART;TZID=America/Los_Angeles:20240420T110000
DTEND;TZID=America/Los_Angeles:20240420T170000
DTSTAMP:20260423T163255
CREATED:20240420T184027Z
LAST-MODIFIED:20240420T184847Z
UID:10001889-1713610800-1713632400@helmsdesigndistrict.com
SUMMARY:Join HD Buttercup and Plantita LA in an Earth Day Workshop
DESCRIPTION:On Saturday\, April 20th from 11:00 am to 5:00 pm\, HD Buttercup brings back the ever-popular Plantita LA for a plant arrangement workshop that will leave your friends green with envy when you bring home your creation. Plantita LA believes that plants have the power to enhance your quality of life and well-being and we agree. Come celebrate!
URL:https://helmsdesigndistrict.com/event/join-hd-buttercup-and-plantita-la-in-an-earth-day-workshop/
LOCATION:H.D. Buttercup | Coco Republic\, 3225 Helms Avenue\, Los Angeles\,\, CA\, 90034\, United States
CATEGORIES:News
ATTACH;FMTTYPE=image/jpeg:https://helmsdesigndistrict.com/wp-content/uploads/2024/04/Plantita_750x500.jpg
GEO:34.0306035;-118.3850036
X-APPLE-STRUCTURED-LOCATION;VALUE=URI;X-ADDRESS=H.D. Buttercup | Coco Republic 3225 Helms Avenue Los Angeles CA 90034 United States;X-APPLE-RADIUS=500;X-TITLE=3225 Helms Avenue:geo:-118.3850036,34.0306035
END:VEVENT
BEGIN:VEVENT
DTSTART;TZID=America/Los_Angeles:20230608T170000
DTEND;TZID=America/Los_Angeles:20230608T190000
DTSTAMP:20260423T163255
CREATED:20230607T235417Z
LAST-MODIFIED:20230608T013232Z
UID:10000543-1686243600-1686250800@helmsdesigndistrict.com
SUMMARY:Creative / Perspectives: Exhibit (02) Visual Contrast Studio
DESCRIPTION:Thursday\, June 8th\, from 5:00-7:00 pm \nH.D. Buttercup | Coco Republic\n3225 Helms Avenue\, Culver City\, CA 90232 \nJoin us this Thursday for opening night of the second installment of Coco Republic’s newest art exhibition\, featuring Los Angeles based art studio Visual Contrast as they display their custom collection at H.D. Buttercup | Coco Republic. \nVisual Contrast brings a thoughtful new approach to the production of fine art. Looking to the shape\, color\, and texture of Coco Republic furniture and furnishings to dictate the designs. This collection was created by their team of artists exclusively for Coco Republic. \nRSVP HERE\nThe exhibition will remain on view thru July 6 . \n 
URL:https://helmsdesigndistrict.com/event/visual-contrast-studio/
LOCATION:H.D. Buttercup | Coco Republic\, 3225 Helms Avenue\, Los Angeles\,\, CA\, 90034\, United States
CATEGORIES:News
ATTACH;FMTTYPE=image/jpeg:https://helmsdesigndistrict.com/wp-content/uploads/2023/06/VisualContrast-CocoRepublic_970px.jpg
GEO:34.0306035;-118.3850036
X-APPLE-STRUCTURED-LOCATION;VALUE=URI;X-ADDRESS=H.D. Buttercup | Coco Republic 3225 Helms Avenue Los Angeles CA 90034 United States;X-APPLE-RADIUS=500;X-TITLE=3225 Helms Avenue:geo:-118.3850036,34.0306035
END:VEVENT
BEGIN:VEVENT
DTSTART;VALUE=DATE:20230505
DTEND;VALUE=DATE:20230607
DTSTAMP:20260423T163255
CREATED:20230505T203622Z
LAST-MODIFIED:20230608T001435Z
UID:10000535-1683244800-1686095999@helmsdesigndistrict.com
SUMMARY:Creative Perspectives Art Exhibition at HD Buttercup | Coco Republic
DESCRIPTION:Free \nCreative Perspectives: (01) Monica Perez by Coco Republic\nA series of art exhibitions exploring the talents of creatives across California by Coco Republic. Explore the work of the first inaugural artist\, Monica Perez. Her artwork explores what has disappeared\, yet still lingers in our hearts and minds\, offering a unique perspective on our world. \nCoco Republic\, the renowned Australian furniture store\, has just made its US debut at HD Buttercup Design Center. Now exclusively available at this premier destination for interior design\, Coco Republic offers a unique range of furniture\, homewares\, and stylish décor items that reflect the brand’s signature blend of classic and contemporary design. \nViewing Hours:\nMon- Sat: 10am – 6pm\nSunday: 11am – 6pm
URL:https://helmsdesigndistrict.com/event/monica-perez/
LOCATION:H.D. Buttercup | Coco Republic\, 3225 Helms Avenue\, Los Angeles\,\, CA\, 90034\, United States
CATEGORIES:Long Term Events
ATTACH;FMTTYPE=image/jpeg:https://helmsdesigndistrict.com/wp-content/uploads/2023/05/Coco-Republic-Monica-Perez_800x558.jpg
GEO:34.0306035;-118.3850036
X-APPLE-STRUCTURED-LOCATION;VALUE=URI;X-ADDRESS=H.D. Buttercup | Coco Republic 3225 Helms Avenue Los Angeles CA 90034 United States;X-APPLE-RADIUS=500;X-TITLE=3225 Helms Avenue:geo:-118.3850036,34.0306035
END:VEVENT
BEGIN:VEVENT
DTSTART;TZID=America/Los_Angeles:20230128T120000
DTEND;TZID=America/Los_Angeles:20230128T150000
DTSTAMP:20260423T163255
CREATED:20230127T195110Z
LAST-MODIFIED:20230127T195110Z
UID:10000368-1674907200-1674918000@helmsdesigndistrict.com
SUMMARY:Free Coffee\, Pancakes and Music this weekend at H.D. Buttercup
DESCRIPTION:Did someone say FREE Pancakes? \nIt’s the last weekend of H.D. Buttercup’s Half Yearly Sale so they are bringing in Coffee + a Pancake pop-up stand to celebrate.  Coffee and a DJ spinning music will be set up inside the showroom. Pancake stand just outside the front door. \nSaturday\, 1/28: from 12 noon to 3:oo pm = Free Coffee & Pancakes\nSunday\, 1/29: from 12 noon to 3:00 pm = Free Coffee & Pancakes + Live Music \nSee you there!
URL:https://helmsdesigndistrict.com/event/free-coffee-pancakes-and-music-this-weekend-at-h-d-buttercup/
LOCATION:H.D. Buttercup | Coco Republic\, 3225 Helms Avenue\, Los Angeles\,\, CA\, 90034\, United States
CATEGORIES:News
ATTACH;FMTTYPE=image/jpeg:https://helmsdesigndistrict.com/wp-content/uploads/2023/01/HDB-23.01.28.jpg
GEO:34.0306035;-118.3850036
X-APPLE-STRUCTURED-LOCATION;VALUE=URI;X-ADDRESS=H.D. Buttercup | Coco Republic 3225 Helms Avenue Los Angeles CA 90034 United States;X-APPLE-RADIUS=500;X-TITLE=3225 Helms Avenue:geo:-118.3850036,34.0306035
END:VEVENT
BEGIN:VEVENT
DTSTART;TZID=America/Los_Angeles:20220618T110000
DTEND;TZID=America/Los_Angeles:20220618T130000
DTSTAMP:20260423T163255
CREATED:20220225T002240Z
LAST-MODIFIED:20220617T212240Z
UID:10000308-1655550000-1655557200@helmsdesigndistrict.com
SUMMARY:See what’s blooming at HD Buttercup!
DESCRIPTION:HD Buttercup\n3225 Helms Avenue\, Los Angeles\, CA \nJoin HD Buttercup on Saturday\, June 18th from 10:30 AM to 1:30 PM for a day of fresh flowers from FlowertruckLA. \nFlowertruckLA is a farm-to-vase company that offers the freshest selection of flowers\, including many seasonal assortments. \n 
URL:https://helmsdesigndistrict.com/event/blooming-at-hdbuttercup/
LOCATION:H.D. Buttercup | Coco Republic\, 3225 Helms Avenue\, Los Angeles\,\, CA\, 90034\, United States
CATEGORIES:News
ATTACH;FMTTYPE=image/jpeg:https://helmsdesigndistrict.com/wp-content/uploads/2022/04/Flower-Market-22.03.19_1080sq.jpg
GEO:34.0306035;-118.3850036
X-APPLE-STRUCTURED-LOCATION;VALUE=URI;X-ADDRESS=H.D. Buttercup | Coco Republic 3225 Helms Avenue Los Angeles CA 90034 United States;X-APPLE-RADIUS=500;X-TITLE=3225 Helms Avenue:geo:-118.3850036,34.0306035
END:VEVENT
BEGIN:VEVENT
DTSTART;TZID=America/Los_Angeles:20191114T120000
DTEND;TZID=America/Los_Angeles:20191114T160000
DTSTAMP:20260423T163255
CREATED:20191112T205644Z
LAST-MODIFIED:20191112T205644Z
UID:10000203-1573732800-1573747200@helmsdesigndistrict.com
SUMMARY:H.D. Buttercup Hosts a Popup with Soohyang Fragrances
DESCRIPTION:Free\nOn Thursday\, November 14th from 12:00 to 4:00 pm\, please join H.D. Buttercup in welcoming the founder and creative director of Soohyang Fragrances\, Soo Hyang Kim. \nCheers and Happy Shopping!
URL:https://helmsdesigndistrict.com/event/h-d-buttercup-hosts-a-popup-with-soohyang-fragrances/
LOCATION:H.D. Buttercup | Coco Republic\, 3225 Helms Avenue\, Los Angeles\,\, CA\, 90034\, United States
CATEGORIES:News
ATTACH;FMTTYPE=image/gif:https://helmsdesigndistrict.com/wp-content/uploads/2019/11/Soohyang-Fragrance-Popup-1080x1080-web.gif
GEO:34.0306035;-118.3850036
X-APPLE-STRUCTURED-LOCATION;VALUE=URI;X-ADDRESS=H.D. Buttercup | Coco Republic 3225 Helms Avenue Los Angeles CA 90034 United States;X-APPLE-RADIUS=500;X-TITLE=3225 Helms Avenue:geo:-118.3850036,34.0306035
END:VEVENT
BEGIN:VEVENT
DTSTART;TZID=America/Los_Angeles:20191028T180000
DTEND;TZID=America/Los_Angeles:20191028T200000
DTSTAMP:20260423T163255
CREATED:20191022T210320Z
LAST-MODIFIED:20191024T171230Z
UID:10000346-1572285600-1572292800@helmsdesigndistrict.com
SUMMARY:H.D. Buttercup Hosts Author and Interior Designer Farah Merhi
DESCRIPTION:On Monday\, October 28th at 6:00 pm\, please join H.D. Buttercup in hosting author and interior design sensation behind Inspire Me! Home Décor\, Farah Merhi\, as she discusses her new book Inspire Your Home: Easy Affordable Ideas to Make Every Room Glamorous. Audience Q&A and book signing to follow. \nAdmission + Book \n 
URL:https://helmsdesigndistrict.com/event/h-d-buttercup-hosts-author-and-interior-desinger-farah-merhi/
LOCATION:H.D. Buttercup | Coco Republic\, 3225 Helms Avenue\, Los Angeles\,\, CA\, 90034\, United States
CATEGORIES:News
ATTACH;FMTTYPE=image/gif:https://helmsdesigndistrict.com/wp-content/uploads/2019/10/Farah-Mehri-web.gif
GEO:34.0306035;-118.3850036
X-APPLE-STRUCTURED-LOCATION;VALUE=URI;X-ADDRESS=H.D. Buttercup | Coco Republic 3225 Helms Avenue Los Angeles CA 90034 United States;X-APPLE-RADIUS=500;X-TITLE=3225 Helms Avenue:geo:-118.3850036,34.0306035
END:VEVENT
BEGIN:VEVENT
DTSTART;TZID=America/Los_Angeles:20171206T170000
DTEND;TZID=America/Los_Angeles:20171206T220000
DTSTAMP:20260423T163255
CREATED:20171129T005051Z
LAST-MODIFIED:20171206T191714Z
UID:10000201-1512579600-1512597600@helmsdesigndistrict.com
SUMMARY:Local Mercato Pop Up at HD Buttercup - CANCELLED
DESCRIPTION:We’re sorry to announce that this event has been cancelled due to the fires. Our hearts go out to those affected. We will keep you posted about rescheduling the event.\nOn Wednesday\, December 6th from 5 to 10 pm\, head over to HD Buttercup for a little shopping\, sipping\, and tasting as they welcome Local Mercato for a holiday pop-up extravaganza. Featuring over 25 designers\, Local Mercato’s gift shop is a carefully curated selection of items sure to fulfill all your gift-giving needs.
URL:https://helmsdesigndistrict.com/event/need-a-gift-local-mercato-pops-up-at-hd-buttercup/
LOCATION:H.D. Buttercup | Coco Republic\, 3225 Helms Avenue\, Los Angeles\,\, CA\, 90034\, United States
CATEGORIES:News
ATTACH;FMTTYPE=image/gif:https://helmsdesigndistrict.com/wp-content/uploads/2017/11/Local-Mercato-giphy-2.gif
GEO:34.0306035;-118.3850036
X-APPLE-STRUCTURED-LOCATION;VALUE=URI;X-ADDRESS=H.D. Buttercup | Coco Republic 3225 Helms Avenue Los Angeles CA 90034 United States;X-APPLE-RADIUS=500;X-TITLE=3225 Helms Avenue:geo:-118.3850036,34.0306035
END:VEVENT
BEGIN:VEVENT
DTSTART;TZID=America/Los_Angeles:20170302T170000
DTEND;TZID=America/Los_Angeles:20170302T190000
DTSTAMP:20260423T163255
CREATED:20170223T005034Z
LAST-MODIFIED:20170223T005034Z
UID:10000060-1488474000-1488481200@helmsdesigndistrict.com
SUMMARY:H.D. Buttercup Hosts a Guest Designer Event on March 2nd
DESCRIPTION:Free\nTo kick off the month of March\, H.D. Buttercup is hosting a Guest Designer Event. Please join them on Thursday\, March 2 from 5:00 to 7:00PM for a meet and greet with five top designers from Los Angeles. The award-winning list includes: Lucie Ayers\, Lindsay Chambers\, Breeze Giannasio\, Natalie Marom and Alexandra Rae. The designers will create in-store vignettes\, exclusively with H.D. Buttercup products\, inspiring customers to go for the unexpected. \nStop by for snacks\, drinks and a whole world of inspiration!
URL:https://helmsdesigndistrict.com/event/h-d-buttercup-hosts-a-guest-designer-event-on-march-2nd/
LOCATION:H.D. Buttercup | Coco Republic\, 3225 Helms Avenue\, Los Angeles\,\, CA\, 90034\, United States
CATEGORIES:News
ATTACH;FMTTYPE=image/gif:https://helmsdesigndistrict.com/wp-content/uploads/2017/02/HD-Buttercup-event-17.03.02.gif
GEO:34.0306035;-118.3850036
X-APPLE-STRUCTURED-LOCATION;VALUE=URI;X-ADDRESS=H.D. Buttercup | Coco Republic 3225 Helms Avenue Los Angeles CA 90034 United States;X-APPLE-RADIUS=500;X-TITLE=3225 Helms Avenue:geo:-118.3850036,34.0306035
END:VEVENT
BEGIN:VEVENT
DTSTART;TZID=America/Los_Angeles:20170223T160000
DTEND;TZID=America/Los_Angeles:20170223T190000
DTSTAMP:20260423T163255
CREATED:20170223T010620Z
LAST-MODIFIED:20170223T190434Z
UID:10000062-1487865600-1487876400@helmsdesigndistrict.com
SUMMARY:Artist Michael Kalish Exhibits "The Art of Finding Love" at H.D. Buttercup
DESCRIPTION:Michael Kalish\, the renowned artist\, is known for his massive public art installations\, but it’s his newest interactive installation\, “The Art of Finding Love”\, that reflect his most moving work to date. \nBeginning on Thursday\, February 23 through February 26\, “THE ART OF FINDING LOVE”\, an interactive art sculpture by MICHAEL KALISH\, will be exhibited inside the H.D. Buttercup showroom. Pop in to meet the artist on 2/23 from 4:00 to 7:00PM. \nEXPERIENCE IT\nStanding at 20 feet tall\, you are invited to come and “find love” as you walk around this interactive sculpture until you find the one spot where the letters come together. \nLIVE IT\nBring home a limited edition tabletop version of the interactive sculpture that functions as both a vase and a candle holder. \n 
URL:https://helmsdesigndistrict.com/event/artist-michael-kalish-exhibits-the-art-of-finding-love-at-h-d-buttercup/
LOCATION:H.D. Buttercup | Coco Republic\, 3225 Helms Avenue\, Los Angeles\,\, CA\, 90034\, United States
CATEGORIES:News
ATTACH;FMTTYPE=image/gif:https://helmsdesigndistrict.com/wp-content/uploads/2017/02/Michael-Kalish.gif
GEO:34.0306035;-118.3850036
X-APPLE-STRUCTURED-LOCATION;VALUE=URI;X-ADDRESS=H.D. Buttercup | Coco Republic 3225 Helms Avenue Los Angeles CA 90034 United States;X-APPLE-RADIUS=500;X-TITLE=3225 Helms Avenue:geo:-118.3850036,34.0306035
END:VEVENT
BEGIN:VEVENT
DTSTART;TZID=America/Los_Angeles:20170212T110000
DTEND;TZID=America/Los_Angeles:20170212T140000
DTSTAMP:20260423T163255
CREATED:20170211T005502Z
LAST-MODIFIED:20170211T013535Z
UID:10000155-1486897200-1486908000@helmsdesigndistrict.com
SUMMARY:H.D. Buttercup Invites You to Brunch
DESCRIPTION:Free\nOn Sunday\, February 12th from 11:00AM to 2:00PM\, drop by H.D. Buttercup for brunch on them! \nInspired by top fashion trends and artistic designs\, H.D. Buttercup is proud to present their most inventive furniture and rugs to date. Shop their new Spring 2017 Collection and enjoy an afternoon of art for the whole family. Cruise their showroom\, create kites with your kids\, and have some delicious bites with the entire H.D. Buttercup team.
URL:https://helmsdesigndistrict.com/event/h-d-buttercup-invites-you-to-brunch/
LOCATION:H.D. Buttercup | Coco Republic\, 3225 Helms Avenue\, Los Angeles\,\, CA\, 90034\, United States
CATEGORIES:News
ATTACH;FMTTYPE=image/jpeg:https://helmsdesigndistrict.com/wp-content/uploads/2017/02/HD_Buttercup_Brunch_Is_Coming.jpg
GEO:34.0306035;-118.3850036
X-APPLE-STRUCTURED-LOCATION;VALUE=URI;X-ADDRESS=H.D. Buttercup | Coco Republic 3225 Helms Avenue Los Angeles CA 90034 United States;X-APPLE-RADIUS=500;X-TITLE=3225 Helms Avenue:geo:-118.3850036,34.0306035
END:VEVENT
BEGIN:VEVENT
DTSTART;TZID=America/Los_Angeles:20161206T170000
DTEND;TZID=America/Los_Angeles:20161206T220000
DTSTAMP:20260423T163255
CREATED:20161202T202755Z
LAST-MODIFIED:20161205T210528Z
UID:10000144-1481043600-1481061600@helmsdesigndistrict.com
SUMMARY:Local Mercato and Book Signing at H.D. Buttercup
DESCRIPTION:On December 6th from 5 to 10 PM\, stop into H.D. Buttercup as they host Local Mercato to benefit Mattel Children’s Hospital UCLA. Artisans and designers will be on site with great gift ideas for your holiday shopping. Plus\, Louesa Roebuck will be signing her beautiful new release: Foraged Flora. \nComplimentary cocktails and light bites. A portion of the sales go to benefit Mattel Children’s Hospital. \n 
URL:https://helmsdesigndistrict.com/event/local-mercato-at-h-d-buttercup/
LOCATION:H.D. Buttercup | Coco Republic\, 3225 Helms Avenue\, Los Angeles\,\, CA\, 90034\, United States
CATEGORIES:News
ATTACH;FMTTYPE=image/gif:https://helmsdesigndistrict.com/wp-content/uploads/2016/12/HDB-Local-Mercato.gif
GEO:34.0306035;-118.3850036
X-APPLE-STRUCTURED-LOCATION;VALUE=URI;X-ADDRESS=H.D. Buttercup | Coco Republic 3225 Helms Avenue Los Angeles CA 90034 United States;X-APPLE-RADIUS=500;X-TITLE=3225 Helms Avenue:geo:-118.3850036,34.0306035
END:VEVENT
END:VCALENDAR