BEGIN:VCALENDAR
VERSION:2.0
PRODID:-//Helms Design District - ECPv6.15.18//NONSGML v1.0//EN
CALSCALE:GREGORIAN
METHOD:PUBLISH
X-WR-CALNAME:Helms Design District
X-ORIGINAL-URL:https://helmsdesigndistrict.com
X-WR-CALDESC:Events for Helms Design District
REFRESH-INTERVAL;VALUE=DURATION:PT1H
X-Robots-Tag:noindex
X-PUBLISHED-TTL:PT1H
BEGIN:VTIMEZONE
TZID:America/Los_Angeles
BEGIN:DAYLIGHT
TZOFFSETFROM:-0800
TZOFFSETTO:-0700
TZNAME:PDT
DTSTART:20240310T100000
END:DAYLIGHT
BEGIN:STANDARD
TZOFFSETFROM:-0700
TZOFFSETTO:-0800
TZNAME:PST
DTSTART:20241103T090000
END:STANDARD
BEGIN:DAYLIGHT
TZOFFSETFROM:-0800
TZOFFSETTO:-0700
TZNAME:PDT
DTSTART:20250309T100000
END:DAYLIGHT
BEGIN:STANDARD
TZOFFSETFROM:-0700
TZOFFSETTO:-0800
TZNAME:PST
DTSTART:20251102T090000
END:STANDARD
BEGIN:DAYLIGHT
TZOFFSETFROM:-0800
TZOFFSETTO:-0700
TZNAME:PDT
DTSTART:20260308T100000
END:DAYLIGHT
BEGIN:STANDARD
TZOFFSETFROM:-0700
TZOFFSETTO:-0800
TZNAME:PST
DTSTART:20261101T090000
END:STANDARD
END:VTIMEZONE
BEGIN:VEVENT
DTSTART;TZID=America/Los_Angeles:20250921T080000
DTEND;TZID=America/Los_Angeles:20250921T100000
DTSTAMP:20260423T191754
CREATED:20250902T190358Z
LAST-MODIFIED:20250902T190759Z
UID:10001978-1758441600-1758448800@helmsdesigndistrict.com
SUMMARY:Helms Bakery Cars & Coffee
DESCRIPTION:Do you love cars? Meet fellow enthusiasts and collectors at the next Cars & Coffee event at the Helms Bakery\, presented by Cars & Bids. Helms has lots of free\, onsite parking available. \nWhat a great way to spend a Sunday morning. Get here early to secure a spot for your cool whip!
URL:https://helmsdesigndistrict.com/event/helms-bakery-cars-coffee-september-2025/
LOCATION:Helms Bakery\, 3220 Helms Avenue\, Los Angeles\, CA\, 90034\, United States
CATEGORIES:News
ATTACH;FMTTYPE=image/jpeg:https://helmsdesigndistrict.com/wp-content/uploads/2025/09/CarsCoffee_090225_IGPost.jpg
END:VEVENT
BEGIN:VEVENT
DTSTART;TZID=America/Los_Angeles:20250608T080000
DTEND;TZID=America/Los_Angeles:20250608T100000
DTSTAMP:20260423T191754
CREATED:20250522T212109Z
LAST-MODIFIED:20250523T193459Z
UID:10001963-1749369600-1749376800@helmsdesigndistrict.com
SUMMARY:Cars & Coffee - Summer 2025 Edition
DESCRIPTION:Do you love cars? Meet fellow enthusiasts and collectors at the next Cars & Coffee event at the Helms Bakery\, hosted by Chef Sang Yoon and Jonny Lieberman. Helms has lots of free\, onsite parking available. \nWhat a great way to spend a Sunday morning. Get here early to secure a spot for your cool whip!
URL:https://helmsdesigndistrict.com/event/cars-coffee-summer-2025-edition/
LOCATION:Helms Bakery\, 3220 Helms Avenue\, Los Angeles\, CA\, 90034\, United States
CATEGORIES:News
ATTACH;FMTTYPE=image/jpeg:https://helmsdesigndistrict.com/wp-content/uploads/2025/05/CarsCoffee_060825_SiteEmail.jpg
END:VEVENT
BEGIN:VEVENT
DTSTART;TZID=America/Los_Angeles:20250323T080000
DTEND;TZID=America/Los_Angeles:20250323T100000
DTSTAMP:20260423T191754
CREATED:20250312T195932Z
LAST-MODIFIED:20250313T210116Z
UID:10001944-1742716800-1742724000@helmsdesigndistrict.com
SUMMARY:The First Cars & Coffee with Chef Sang Yoon
DESCRIPTION:Do you love cars? Meet fellow enthusiasts and collectors at the first Cars & Coffee at the new Helms Bakery hosted by Chef Sang Yoon and Jonny Lieberman.  Helms has lots of free\, onsite parking available. \nWhat a great way to spend a Sunday morning. Get here early to secure a spot for your cool whip!
URL:https://helmsdesigndistrict.com/event/helms-bakery-cars-coffee/
LOCATION:Helms Bakery\, 3220 Helms Avenue\, Los Angeles\, CA\, 90034\, United States
CATEGORIES:News
ATTACH;FMTTYPE=image/jpeg:https://helmsdesigndistrict.com/wp-content/uploads/2025/03/cars_coffee-1.jpg
END:VEVENT
END:VCALENDAR