BEGIN:VCALENDAR
VERSION:2.0
PRODID:-//Helms Design District - ECPv6.15.18//NONSGML v1.0//EN
CALSCALE:GREGORIAN
METHOD:PUBLISH
X-ORIGINAL-URL:https://helmsdesigndistrict.com
X-WR-CALDESC:Events for Helms Design District
REFRESH-INTERVAL;VALUE=DURATION:PT1H
X-Robots-Tag:noindex
X-PUBLISHED-TTL:PT1H
BEGIN:VTIMEZONE
TZID:America/Los_Angeles
BEGIN:DAYLIGHT
TZOFFSETFROM:-0800
TZOFFSETTO:-0700
TZNAME:PDT
DTSTART:20210314T100000
END:DAYLIGHT
BEGIN:STANDARD
TZOFFSETFROM:-0700
TZOFFSETTO:-0800
TZNAME:PST
DTSTART:20211107T090000
END:STANDARD
BEGIN:DAYLIGHT
TZOFFSETFROM:-0800
TZOFFSETTO:-0700
TZNAME:PDT
DTSTART:20220313T100000
END:DAYLIGHT
BEGIN:STANDARD
TZOFFSETFROM:-0700
TZOFFSETTO:-0800
TZNAME:PST
DTSTART:20221106T090000
END:STANDARD
BEGIN:DAYLIGHT
TZOFFSETFROM:-0800
TZOFFSETTO:-0700
TZNAME:PDT
DTSTART:20230312T100000
END:DAYLIGHT
BEGIN:STANDARD
TZOFFSETFROM:-0700
TZOFFSETTO:-0800
TZNAME:PST
DTSTART:20231105T090000
END:STANDARD
END:VTIMEZONE
BEGIN:VEVENT
DTSTART;VALUE=DATE:20220308
DTEND;VALUE=DATE:20220311
DTSTAMP:20260423T204942
CREATED:20220224T220209Z
LAST-MODIFIED:20220226T011700Z
UID:10000306-1646697600-1646956799@helmsdesigndistrict.com
SUMMARY:Pasta in Blue (Ocean)
DESCRIPTION:Pasta Sisters\n3280 Helms Avenue\, Culver City\, CA 90232\nMarch 8\, 9 and 10 \nPasta Sisters is opening their kitchen to the amazing Executive Chef\, food stylist\, and Food Networks’ Chopped winner: Barbara Pollastrini.\nFrom March 8th to March 10th\, Barbara will feature her signature “Blue Ocean” Pasta (made with Spirulina) tossed in homemade Uni-butter and Santa Barbara Prawns\, topped with Uni and Wild Salmon Roe. \nThis special dish will be available only for dine-in at the Culver City location. \nJoin us as Chef Pollastrini blends design\, tradition\, and innovation to create a uniquely flavorful work of art! \nThe number of dishes per day is limited. We highly recommend to plan accordingly by pre-ordering your dish on Eventbrite or at Pasta Sisters in Culver City.\nPRE-ORDER NOW \nEveryone at PASTA SISTERS is profoundly grateful for your continued support.
URL:https://helmsdesigndistrict.com/event/pasta-in-blue-ocean/
LOCATION:Pasta Sisters\, 3280 Helms Avenue\, Culver City\, CA\, 90232
CATEGORIES:News
ATTACH;FMTTYPE=image/jpeg:https://helmsdesigndistrict.com/wp-content/uploads/2022/02/Pasta-Sisters_Barbara-Pollastrini.jpg
END:VEVENT
END:VCALENDAR