BEGIN:VCALENDAR
VERSION:2.0
PRODID:-//Helms Design District - ECPv6.15.18//NONSGML v1.0//EN
CALSCALE:GREGORIAN
METHOD:PUBLISH
X-WR-CALNAME:Helms Design District
X-ORIGINAL-URL:https://helmsdesigndistrict.com
X-WR-CALDESC:Events for Helms Design District
REFRESH-INTERVAL;VALUE=DURATION:PT1H
X-Robots-Tag:noindex
X-PUBLISHED-TTL:PT1H
BEGIN:VTIMEZONE
TZID:America/Los_Angeles
BEGIN:DAYLIGHT
TZOFFSETFROM:-0800
TZOFFSETTO:-0700
TZNAME:PDT
DTSTART:20140309T100000
END:DAYLIGHT
BEGIN:STANDARD
TZOFFSETFROM:-0700
TZOFFSETTO:-0800
TZNAME:PST
DTSTART:20141102T090000
END:STANDARD
BEGIN:DAYLIGHT
TZOFFSETFROM:-0800
TZOFFSETTO:-0700
TZNAME:PDT
DTSTART:20150308T100000
END:DAYLIGHT
BEGIN:STANDARD
TZOFFSETFROM:-0700
TZOFFSETTO:-0800
TZNAME:PST
DTSTART:20151101T090000
END:STANDARD
BEGIN:DAYLIGHT
TZOFFSETFROM:-0800
TZOFFSETTO:-0700
TZNAME:PDT
DTSTART:20160313T100000
END:DAYLIGHT
BEGIN:STANDARD
TZOFFSETFROM:-0700
TZOFFSETTO:-0800
TZNAME:PST
DTSTART:20161106T090000
END:STANDARD
BEGIN:DAYLIGHT
TZOFFSETFROM:-0800
TZOFFSETTO:-0700
TZNAME:PDT
DTSTART:20170312T100000
END:DAYLIGHT
BEGIN:STANDARD
TZOFFSETFROM:-0700
TZOFFSETTO:-0800
TZNAME:PST
DTSTART:20171105T090000
END:STANDARD
BEGIN:DAYLIGHT
TZOFFSETFROM:-0800
TZOFFSETTO:-0700
TZNAME:PDT
DTSTART:20180311T100000
END:DAYLIGHT
BEGIN:STANDARD
TZOFFSETFROM:-0700
TZOFFSETTO:-0800
TZNAME:PST
DTSTART:20181104T090000
END:STANDARD
BEGIN:DAYLIGHT
TZOFFSETFROM:-0800
TZOFFSETTO:-0700
TZNAME:PDT
DTSTART:20190310T100000
END:DAYLIGHT
BEGIN:STANDARD
TZOFFSETFROM:-0700
TZOFFSETTO:-0800
TZNAME:PST
DTSTART:20191103T090000
END:STANDARD
BEGIN:DAYLIGHT
TZOFFSETFROM:-0800
TZOFFSETTO:-0700
TZNAME:PDT
DTSTART:20200308T100000
END:DAYLIGHT
BEGIN:STANDARD
TZOFFSETFROM:-0700
TZOFFSETTO:-0800
TZNAME:PST
DTSTART:20201101T090000
END:STANDARD
BEGIN:DAYLIGHT
TZOFFSETFROM:-0800
TZOFFSETTO:-0700
TZNAME:PDT
DTSTART:20210314T100000
END:DAYLIGHT
BEGIN:STANDARD
TZOFFSETFROM:-0700
TZOFFSETTO:-0800
TZNAME:PST
DTSTART:20211107T090000
END:STANDARD
END:VTIMEZONE
BEGIN:VEVENT
DTSTART;VALUE=DATE:20201027
DTEND;VALUE=DATE:20201103
DTSTAMP:20260423T174923
CREATED:20201022T200810Z
LAST-MODIFIED:20201022T200825Z
UID:10000403-1603756800-1604361599@helmsdesigndistrict.com
SUMMARY:Room & Board Features an Artist Each Month in Support of LA Family Housing
DESCRIPTION:Please join Room & Board in support of LA Family Housing (LAFH) in an effort to help our homeless neighbors obtain permanent housing and a place to call home. \nWhen you purchase an artwork by the featured artist – this month is Trine Churchill – a 50% donation will be made on your behalf to continue the critical and life-saving services LAFH provides. \nClick here check out the work\, or to learn more about the art. \nFor questions and inquiries\, please contact the artist at tc@trinechurchill.com / 310-699-2560. \nABOUT THE ARTIST\nTrine Churchill is a Los Angeles-based\, contemporary painter from Copenhagen\, Denmark. She received her B.A. in Fine Art from Otis College of Art and Design in Los Angeles\, and studied at the école nationale supérieure des beaux-arts in Paris. Churchill works in what she describes as the “fictive landscape.” Charged yet effortless\, her paintings offer the viewer a walk through scenery of symbolic meaning with a composition that combines abstract landscape with references from current life to ancient times. Her art has been exhibited in a number of galleries in Europe\, California\, and New York\, including George Billis Gallery in LA\, The Torrance Art Museum\, Nancy Margolis Gallery NY\, and Galerie Hübner + Hübner in Frankfurt.
URL:https://helmsdesigndistrict.com/event/room-board-features-an-artist-each-month-in-support-of-la-family-housing/
LOCATION:Room&Board\, 3231 Helms Avenue\, Culver City\, CA\, 90034
ATTACH;FMTTYPE=image/jpeg:https://helmsdesigndistrict.com/wp-content/uploads/2020/10/Trine-Image-2-web.jpg
GEO:34.0296674;-118.3846043
X-APPLE-STRUCTURED-LOCATION;VALUE=URI;X-ADDRESS=Room&Board 3231 Helms Avenue Culver City CA 90034;X-APPLE-RADIUS=500;X-TITLE=3231 Helms Avenue:geo:-118.3846043,34.0296674
END:VEVENT
BEGIN:VEVENT
DTSTART;TZID=America/Los_Angeles:20191114T170000
DTEND;TZID=America/Los_Angeles:20191114T190000
DTSTAMP:20260423T174923
CREATED:20191031T225241Z
LAST-MODIFIED:20191031T225241Z
UID:10000190-1573750800-1573758000@helmsdesigndistrict.com
SUMMARY:Join Us At Room&Board for the Next Women in Business Chamber Event
DESCRIPTION:On Thursday\, November 14th from 5:00 to 7:00 pm\, please join us in welcoming the Culver City Chamber for their fourth Women In Business Mixer of 2019\, hosted by Room&Board. Room&Board designs their furniture in-house taking inspiration from the enduring design movements of the past. The principles they consider fundamental to good design: honoring natural materials\, working with simple\, organic forms\, and making the functional beautiful. Room&Board’s designs are rooted in this heritage\, but reinterpreted for life today. \nThe Chamber will be spotlighting one of the many awesome women in business in Culver City. This month’s spotlight is Debbi Jones of Marina Martial Arts. \nThe Holidays Are Fast Approaching!\nPlease bring an unwrapped gift for children of all ages. Gift cards are also welcome. We will be accepting donations to ensure children in need will have something to open during the holidays. \nFEES/ADMISSION:\n$15 Member • $20 Non-Member • $25 At The Door \nFOR MORE INFORMATION \nInfo@culvercitychamber.com 310.287.3850 \n 
URL:https://helmsdesigndistrict.com/event/join-us-at-roomboard-for-the-next-women-in-business-chamber-event/
LOCATION:Room&Board\, 3231 Helms Avenue\, Culver City\, CA\, 90034
CATEGORIES:News
ATTACH;FMTTYPE=image/gif:https://helmsdesigndistrict.com/wp-content/uploads/2019/10/Chamber-Mix-and-Mingle-web.gif
GEO:34.0296674;-118.3846043
X-APPLE-STRUCTURED-LOCATION;VALUE=URI;X-ADDRESS=Room&Board 3231 Helms Avenue Culver City CA 90034;X-APPLE-RADIUS=500;X-TITLE=3231 Helms Avenue:geo:-118.3846043,34.0296674
END:VEVENT
BEGIN:VEVENT
DTSTART;TZID=America/Los_Angeles:20191003T190000
DTEND;TZID=America/Los_Angeles:20191003T210000
DTSTAMP:20260423T174923
CREATED:20190910T010636Z
LAST-MODIFIED:20191003T235514Z
UID:10000327-1570129200-1570136400@helmsdesigndistrict.com
SUMMARY:6th Annual Art & Home: An Evening with LA Family Housing
DESCRIPTION:Free\nRoom & Board is excited to host a special art show featuring more than 100 works by local\, contemporary artists in support of LA Family Housing (LAFH)\, one of the largest homeless service providers and real estate developers in LA. \nThrough October 13th\, designated artwork on display in their showroom will be available for purchase with 50% of art proceeds going directly to LAFH. Join us to browse the artwork and enjoy drinks and light bites. \nPlease RSVP at https://www.roomandboard.com/events/LAFH2019 \nPhotograph by: Richard Ruthsatz\, Pomegranite & Guavas
URL:https://helmsdesigndistrict.com/event/lafh2019/
LOCATION:Room&Board\, 3231 Helms Avenue\, Culver City\, CA\, 90034
ATTACH;FMTTYPE=image/jpeg:https://helmsdesigndistrict.com/wp-content/uploads/2019/09/Richard-Ruthsatz-Pomegranite-Guavas-_Richard-Ruthsatz.jpg
GEO:34.0296674;-118.3846043
X-APPLE-STRUCTURED-LOCATION;VALUE=URI;X-ADDRESS=Room&Board 3231 Helms Avenue Culver City CA 90034;X-APPLE-RADIUS=500;X-TITLE=3231 Helms Avenue:geo:-118.3846043,34.0296674
END:VEVENT
BEGIN:VEVENT
DTSTART;TZID=America/Los_Angeles:20190105T100000
DTEND;TZID=America/Los_Angeles:20190105T180000
DTSTAMP:20260423T174923
CREATED:20190104T005650Z
LAST-MODIFIED:20190104T005650Z
UID:10000280-1546682400-1546711200@helmsdesigndistrict.com
SUMMARY:Room & Board's Yearly Clearance Event - Saturday January 5th
DESCRIPTION:Room & Board fans know that their once-a-year floor sample and clearance sale is BIG news! \nThis year\, it’s been pushed to a new day and time. Head over to the Culver City showroom on Saturday\, January 5th from 10 am to 6 pm to secure that must-have piece of furniture for your home.
URL:https://helmsdesigndistrict.com/event/room-boards-yearly-clearance-event-saturday-january-5th/
LOCATION:Room&Board\, 3231 Helms Avenue\, Culver City\, CA\, 90034
CATEGORIES:News
ATTACH;FMTTYPE=image/jpeg:https://helmsdesigndistrict.com/wp-content/uploads/2019/01/2019-Clearance_graphic110.jpg
GEO:34.0296674;-118.3846043
X-APPLE-STRUCTURED-LOCATION;VALUE=URI;X-ADDRESS=Room&Board 3231 Helms Avenue Culver City CA 90034;X-APPLE-RADIUS=500;X-TITLE=3231 Helms Avenue:geo:-118.3846043,34.0296674
END:VEVENT
BEGIN:VEVENT
DTSTART;TZID=America/Los_Angeles:20180926T190000
DTEND;TZID=America/Los_Angeles:20180926T210000
DTSTAMP:20260423T174923
CREATED:20180717T182904Z
LAST-MODIFIED:20180717T182904Z
UID:10000254-1537988400-1537995600@helmsdesigndistrict.com
SUMMARY:Room & Board Hosts a Special Art Show in Support of LA Family Housing
DESCRIPTION:Free\nRoom & Board believes deeply in creating a home you love. LA Family Housing has a similar endeavor. \nOn Wednesday\, September 26th from 7:00 to 9:00 pm\, join Room & Board for a special art show featuring the works of one hundred local\, contemporary artists in support of LA Family Housing (LAFH). \nLAFH is dedicated to helping families and individuals transition out of homelessness and poverty and into permanent housing. Through October 6th\, designated artwork in the showroom will be available for purchase with 50% of the proceeds going directly to support LAFH. \nArtist: Diane Cockerill\, Route 66\, digital photograph\, 22. 5 x 18.5 inches \n 
URL:https://helmsdesigndistrict.com/event/room-board-hosts-a-special-art-show-in-support-of-la-family-housing/
LOCATION:Room&Board\, 3231 Helms Avenue\, Culver City\, CA\, 90034
CATEGORIES:News
ATTACH;FMTTYPE=image/jpeg:https://helmsdesigndistrict.com/wp-content/uploads/2018/07/LADF-2018-Image.jpg
GEO:34.0296674;-118.3846043
X-APPLE-STRUCTURED-LOCATION;VALUE=URI;X-ADDRESS=Room&Board 3231 Helms Avenue Culver City CA 90034;X-APPLE-RADIUS=500;X-TITLE=3231 Helms Avenue:geo:-118.3846043,34.0296674
END:VEVENT
BEGIN:VEVENT
DTSTART;TZID=America/Los_Angeles:20180530T180000
DTEND;TZID=America/Los_Angeles:20180530T200000
DTSTAMP:20260423T174923
CREATED:20180525T210943Z
LAST-MODIFIED:20180525T211234Z
UID:10000234-1527703200-1527710400@helmsdesigndistrict.com
SUMMARY:Room & Board Hosts Artist\, Maker and Author Emily Katz
DESCRIPTION:Free\nOn Wednesday\, May 30th from 6 to 8 pm\, please join Room & Board and the fiber-obsessed community from Knit Wit magazine for a special evening with Emily Katz\, the Portland-based macramé phenomenon and author of the new book Modern Macramé. \nExplore the rich design subculture of macramé\, meet Emily and purchase her new book\, available for signing. Please RSVP. \nThe conversation begins at 7 pm. Refreshments and light bites will be provided.
URL:https://helmsdesigndistrict.com/event/room-board-hosts-artist-maker-and-author-emily-katz/
LOCATION:Room&Board\, 3231 Helms Avenue\, Culver City\, CA\, 90034
CATEGORIES:News
ATTACH;FMTTYPE=image/jpeg:https://helmsdesigndistrict.com/wp-content/uploads/2018/05/Author-photo-Katz_EmilyNicolle-Clemetson-scaled.jpg
GEO:34.0296674;-118.3846043
X-APPLE-STRUCTURED-LOCATION;VALUE=URI;X-ADDRESS=Room&Board 3231 Helms Avenue Culver City CA 90034;X-APPLE-RADIUS=500;X-TITLE=3231 Helms Avenue:geo:-118.3846043,34.0296674
END:VEVENT
BEGIN:VEVENT
DTSTART;TZID=America/Los_Angeles:20180128T110000
DTEND;TZID=America/Los_Angeles:20180128T190000
DTSTAMP:20260423T174923
CREATED:20180112T173711Z
LAST-MODIFIED:20180112T173711Z
UID:10000216-1517137200-1517166000@helmsdesigndistrict.com
SUMMARY:Head Over to Room & Board and See What's New
DESCRIPTION:Free\nThe Room & Board team spent the entire night giving their showroom a big refresh and it’s time to unveil what’s new! \nOn Saturday\, January 27 and Sunday\, January 28\, please join them for a special open house weekend to explore their 2018 collection of beautifully designed\, artisan-crafted furniture and accessories. Discover modern design inspiration for your home\, enjoy light refreshments\, and enter to win a $1000 Room & Board gift card.
URL:https://helmsdesigndistrict.com/event/head-over-to-room-board-and-see-whats-new/2018-01-28/
LOCATION:Room&Board\, 3231 Helms Avenue\, Culver City\, CA\, 90034
CATEGORIES:News
ATTACH;FMTTYPE=image/jpeg:https://helmsdesigndistrict.com/wp-content/uploads/2018/01/2018-Collection-Open-House.jpg
GEO:34.0296674;-118.3846043
X-APPLE-STRUCTURED-LOCATION;VALUE=URI;X-ADDRESS=Room&Board 3231 Helms Avenue Culver City CA 90034;X-APPLE-RADIUS=500;X-TITLE=3231 Helms Avenue:geo:-118.3846043,34.0296674
END:VEVENT
BEGIN:VEVENT
DTSTART;TZID=America/Los_Angeles:20180127T110000
DTEND;TZID=America/Los_Angeles:20180127T190000
DTSTAMP:20260423T174923
CREATED:20180112T173711Z
LAST-MODIFIED:20180112T173711Z
UID:10000215-1517050800-1517079600@helmsdesigndistrict.com
SUMMARY:Head Over to Room & Board and See What's New
DESCRIPTION:Free\nThe Room & Board team spent the entire night giving their showroom a big refresh and it’s time to unveil what’s new! \nOn Saturday\, January 27 and Sunday\, January 28\, please join them for a special open house weekend to explore their 2018 collection of beautifully designed\, artisan-crafted furniture and accessories. Discover modern design inspiration for your home\, enjoy light refreshments\, and enter to win a $1000 Room & Board gift card.
URL:https://helmsdesigndistrict.com/event/head-over-to-room-board-and-see-whats-new/2018-01-27/
LOCATION:Room&Board\, 3231 Helms Avenue\, Culver City\, CA\, 90034
CATEGORIES:News
ATTACH;FMTTYPE=image/jpeg:https://helmsdesigndistrict.com/wp-content/uploads/2018/01/2018-Collection-Open-House.jpg
GEO:34.0296674;-118.3846043
X-APPLE-STRUCTURED-LOCATION;VALUE=URI;X-ADDRESS=Room&Board 3231 Helms Avenue Culver City CA 90034;X-APPLE-RADIUS=500;X-TITLE=3231 Helms Avenue:geo:-118.3846043,34.0296674
END:VEVENT
BEGIN:VEVENT
DTSTART;TZID=America/Los_Angeles:20170913T190000
DTEND;TZID=America/Los_Angeles:20170913T210000
DTSTAMP:20260423T174923
CREATED:20170804T000345Z
LAST-MODIFIED:20170804T000345Z
UID:10000175-1505329200-1505336400@helmsdesigndistrict.com
SUMMARY:Room & Board Hosts an Evening with LA Family Housing
DESCRIPTION:Free\nIn collaboration with Angeleno magazine\, please join Room & Board on Wednesday\, September 13 from 7 to 9 pm\, for a special art show featuring works by over 100 local\, contemporary artists in support of LA Family Housing (LAFH)\, which is dedicated to helping people transition out of homelessness and poverty. \nThrough September 24th\, designated artwork on display in their showroom will be available for purchase for $400 with 50% of proceeds going directly to LAFH. \nStop by for inspired conversation and light bites. Please RSVP.
URL:https://helmsdesigndistrict.com/event/room-board-hosts-an-evening-with-la-family-housing/
LOCATION:Room&Board\, 3231 Helms Avenue\, Culver City\, CA\, 90034
CATEGORIES:News
ATTACH;FMTTYPE=image/gif:https://helmsdesigndistrict.com/wp-content/uploads/2017/08/hung-viet-nguyen-SacredLandscape-III18-LAFH.gif
GEO:34.0296674;-118.3846043
X-APPLE-STRUCTURED-LOCATION;VALUE=URI;X-ADDRESS=Room&Board 3231 Helms Avenue Culver City CA 90034;X-APPLE-RADIUS=500;X-TITLE=3231 Helms Avenue:geo:-118.3846043,34.0296674
END:VEVENT
BEGIN:VEVENT
DTSTART;TZID=America/Los_Angeles:20161029T130000
DTEND;TZID=America/Los_Angeles:20161029T150000
DTSTAMP:20260423T174923
CREATED:20161013T225442Z
LAST-MODIFIED:20161013T225442Z
UID:10000127-1477746000-1477753200@helmsdesigndistrict.com
SUMMARY:Room & Board Hosts A Book Launch And Signing Party With Kirsten Grove
DESCRIPTION:Free\nOn Saturday\, October 29th from 1 to 3PM\, Room & Board invites you to celebrate the launch of Simply Styling\, the debut design book from stylist and blogger Kirsten Grove. \nSimply Styling gives readers practical ideas on how to create a beautifully styled home by layering new products with inherited and collected pieces. As part of an exclusive book tour only in Room & Board stores\, Kirsten will read excerpts and sign copies of her book\, available for purchase during the event. Please rsvp here. \n  \n 
URL:https://helmsdesigndistrict.com/event/room-board-hosts-a-book-launch-and-signing-party-with-kirsten-grove/
LOCATION:Room&Board\, 3231 Helms Avenue\, Culver City\, CA\, 90034
CATEGORIES:News
ATTACH;FMTTYPE=image/jpeg:https://helmsdesigndistrict.com/wp-content/uploads/2016/10/R-B-Event-16.10.29.jpg
GEO:34.0296674;-118.3846043
X-APPLE-STRUCTURED-LOCATION;VALUE=URI;X-ADDRESS=Room&Board 3231 Helms Avenue Culver City CA 90034;X-APPLE-RADIUS=500;X-TITLE=3231 Helms Avenue:geo:-118.3846043,34.0296674
END:VEVENT
BEGIN:VEVENT
DTSTART;TZID=America/Los_Angeles:20161026T190000
DTEND;TZID=America/Los_Angeles:20161026T210000
DTSTAMP:20260423T174923
CREATED:20161004T174436Z
LAST-MODIFIED:20161013T225640Z
UID:10000121-1477508400-1477515600@helmsdesigndistrict.com
SUMMARY:Room & Board Hosts An Evening Of Art In Support Of LA Family Housing
DESCRIPTION:Free\nIn collaboration with Angeleno magazine\, join Room & Board on Wednesday\, October 26 from 7 to 9PM for a special art show featuring works by over 100 local\, contemporary artists in support of LA Family Housing (LAFH). Dedicated to helping families and individuals transition out of homelessness and poverty\, LAFH offers a range of housing opportunities enriched with supportive services. \nFrom October 26 to November 6\, designated artwork on display in the showroom will be available to purchase for $400 with 50% of proceeds going directly to LAFH. \nPlease rsvp to this event. \n 
URL:https://helmsdesigndistrict.com/event/room-board-hosts-an-evening-of-art-in-support-of-la-family-housing/
LOCATION:Room&Board\, 3231 Helms Avenue\, Culver City\, CA\, 90034
CATEGORIES:News
ATTACH;FMTTYPE=image/jpeg:https://helmsdesigndistrict.com/wp-content/uploads/2016/10/LA-Family-Housing.jpg
GEO:34.0296674;-118.3846043
X-APPLE-STRUCTURED-LOCATION;VALUE=URI;X-ADDRESS=Room&Board 3231 Helms Avenue Culver City CA 90034;X-APPLE-RADIUS=500;X-TITLE=3231 Helms Avenue:geo:-118.3846043,34.0296674
END:VEVENT
BEGIN:VEVENT
DTSTART;TZID=America/Los_Angeles:20160928T180000
DTEND;TZID=America/Los_Angeles:20160928T200000
DTSTAMP:20260423T174923
CREATED:20160921T192918Z
LAST-MODIFIED:20160921T193057Z
UID:10000112-1475085600-1475092800@helmsdesigndistrict.com
SUMMARY:Room & Board Hosts A Macramé Workshop with Emily Katz
DESCRIPTION:On Wednesday\, September 28th from 6 to 8PM\, Room & Board invites you to a creative evening with Emily Katz\, a Portland-based interior designer and macramé teacher\, artist and Instagram phenomenon. Emily will lead a workshop and teach guests how to make their very own wall hanging with rope\, driftwood and other supplies. Limited capacity workshop so rvsp here. \nOnce you’ve finished your creation\, enjoy sips and snacks while you shop their new collection of handcrafted\, American-made accessories. \nThis Workshop is now closed. \n 
URL:https://helmsdesigndistrict.com/event/macrame-workshop-with-emily-katz-at-room-board/
LOCATION:Room&Board\, 3231 Helms Avenue\, Culver City\, CA\, 90034
CATEGORIES:News
ATTACH;FMTTYPE=image/jpeg:https://helmsdesigndistrict.com/wp-content/uploads/2016/09/RB-Macrame-Workshop.jpg
GEO:34.0296674;-118.3846043
X-APPLE-STRUCTURED-LOCATION;VALUE=URI;X-ADDRESS=Room&Board 3231 Helms Avenue Culver City CA 90034;X-APPLE-RADIUS=500;X-TITLE=3231 Helms Avenue:geo:-118.3846043,34.0296674
END:VEVENT
BEGIN:VEVENT
DTSTART;TZID=America/Los_Angeles:20160807T150000
DTEND;TZID=America/Los_Angeles:20160807T170000
DTSTAMP:20260423T174923
CREATED:20160715T164644Z
LAST-MODIFIED:20160715T164644Z
UID:10000028-1470582000-1470589200@helmsdesigndistrict.com
SUMMARY:Celebrate The Broad Stage With Room & Board
DESCRIPTION:On Sunday\, August 7th from 3 to 5pm\, join Room & Board for a musical afternoon with The Broad Stage\, a theater known for creating a new kind of artist and audience experience\, with an exclusive live performance by TresSouls. \nFormed in 2010\, TresSouls is a three-piece band that relives the sounds and songs of the 1940s – 1950s\, the golden era of Mexico’s trio romantico music. Bring a friend and enjoy a summer day with live music\, light bites and cocktails. \n8707 Washington Boulevard\, Culver City\n310.736.9100
URL:https://helmsdesigndistrict.com/event/celebrate-the-broad-stage-with-room-board/
LOCATION:Room&Board\, 3231 Helms Avenue\, Culver City\, CA\, 90034
CATEGORIES:News
ATTACH;FMTTYPE=image/gif:https://helmsdesigndistrict.com/wp-content/uploads/2016/07/RB-16.08.gif
GEO:34.0296674;-118.3846043
X-APPLE-STRUCTURED-LOCATION;VALUE=URI;X-ADDRESS=Room&Board 3231 Helms Avenue Culver City CA 90034;X-APPLE-RADIUS=500;X-TITLE=3231 Helms Avenue:geo:-118.3846043,34.0296674
END:VEVENT
BEGIN:VEVENT
DTSTART;TZID=America/Los_Angeles:20151206T140000
DTEND;TZID=America/Los_Angeles:20151206T160000
DTSTAMP:20260423T174923
CREATED:20151125T180927Z
LAST-MODIFIED:20151125T180927Z
UID:10000077-1449410400-1449417600@helmsdesigndistrict.com
SUMMARY:Room & Board Hosts An Afternoon Of Family Fun
DESCRIPTION:On Sunday\, December 6th from 2:00 – 4:00pm\, please join Room & Board for a fun-filled afternoon of kids’ design inspiration with international toy maker Seedling and interior design experts from Laurel & Wolf. \nParents and children of all ages will enjoy Seedling’s holiday-inspired crafts and trunk show featuring activity kits and kid-friendly gifts. Explore kids’ bedroom vignettes styled by Laurel & Wolf using their favorite Room & Board and Seedling products and discover the latest in handcrafted\, American-made designs. \nPlease rsvp here.
URL:https://helmsdesigndistrict.com/event/room-board-hosts-an-afternoon-of-family-fun/
LOCATION:Room&Board\, 3231 Helms Avenue\, Culver City\, CA\, 90034
CATEGORIES:News
ATTACH;FMTTYPE=image/gif:https://helmsdesigndistrict.com/wp-content/uploads/2015/04/R-B-15.12.06.gif
GEO:34.0296674;-118.3846043
X-APPLE-STRUCTURED-LOCATION;VALUE=URI;X-ADDRESS=Room&Board 3231 Helms Avenue Culver City CA 90034;X-APPLE-RADIUS=500;X-TITLE=3231 Helms Avenue:geo:-118.3846043,34.0296674
END:VEVENT
BEGIN:VEVENT
DTSTART;TZID=America/Los_Angeles:20151115T140000
DTEND;TZID=America/Los_Angeles:20151115T160000
DTSTAMP:20260423T174923
CREATED:20151026T232100Z
LAST-MODIFIED:20151026T232100Z
UID:10000045-1447596000-1447603200@helmsdesigndistrict.com
SUMMARY:Room & Board Teams Up With Bneato Bar To Help You Declutter Your Home
DESCRIPTION:On Sunday\, November 15th from 2:00 – 4:00pm\, Room & Board will help you refresh your home with tips and tricks to declutter your space from Bneato Bar\, an LA-based team of professional organizers. Founder Beth Penn will lead an interactive workshop on decluttering and discuss how to be more organized using her favorite Room & Board accessories. \nEnjoy refreshments\, explore Room & Board’s exclusive collection of handcrafted\, American-made designs and discover how to get more time\, space and joy out of your newly organized home! \nRSVP to this event here. \n 
URL:https://helmsdesigndistrict.com/event/room-board-teams-up-with-bneato-bar-to-help-you-declutter-your-home/
LOCATION:Room&Board\, 3231 Helms Avenue\, Culver City\, CA\, 90034
CATEGORIES:News
ATTACH;FMTTYPE=image/gif:https://helmsdesigndistrict.com/wp-content/uploads/2015/04/RB-15.11.15.gif
GEO:34.0296674;-118.3846043
X-APPLE-STRUCTURED-LOCATION;VALUE=URI;X-ADDRESS=Room&Board 3231 Helms Avenue Culver City CA 90034;X-APPLE-RADIUS=500;X-TITLE=3231 Helms Avenue:geo:-118.3846043,34.0296674
END:VEVENT
BEGIN:VEVENT
DTSTART;TZID=America/Los_Angeles:20151021T190000
DTEND;TZID=America/Los_Angeles:20151021T210000
DTSTAMP:20260423T174923
CREATED:20151008T012445Z
LAST-MODIFIED:20151008T172636Z
UID:10000044-1445454000-1445461200@helmsdesigndistrict.com
SUMMARY:Room & Board Hosts An Art Show Benefitting LA Family Housing
DESCRIPTION:On Wednesday\, October 21st from 7:00 – 9:00pm\, please join Room & Board in collaboration with Angeleno magazine for a special art show featuring works by over 100 local\, contemporary artists in support of LA Family Housing (LAFH). \nDedicated to helping families and individuals transition out of homelessness and poverty\, LAFH offers a range of housing opportunities enriched with supportive services. From October 21st to 31st\, designated artwork on display inside the Room & Board showroom will be available for purchase for $400 with 50% of the proceeds going directly to LAFH. \nPlease RSVP here.
URL:https://helmsdesigndistrict.com/event/room-board-hosts-an-art-show-benefitting-la-family-housing/
LOCATION:Room&Board\, 3231 Helms Avenue\, Culver City\, CA\, 90034
CATEGORIES:News
ATTACH;FMTTYPE=image/gif:https://helmsdesigndistrict.com/wp-content/uploads/2015/10/R-B-Event-15.10.gif
GEO:34.0296674;-118.3846043
X-APPLE-STRUCTURED-LOCATION;VALUE=URI;X-ADDRESS=Room&Board 3231 Helms Avenue Culver City CA 90034;X-APPLE-RADIUS=500;X-TITLE=3231 Helms Avenue:geo:-118.3846043,34.0296674
END:VEVENT
BEGIN:VEVENT
DTSTART;TZID=America/Los_Angeles:20151001T180000
DTEND;TZID=America/Los_Angeles:20151001T200000
DTSTAMP:20260423T174923
CREATED:20150921T235631Z
LAST-MODIFIED:20150921T235631Z
UID:10000049-1443722400-1443729600@helmsdesigndistrict.com
SUMMARY:Room & Board Hosts An Evening With Design Experts
DESCRIPTION:On Thursday\, October 1st from 6:00 – 8:00pm\, please join Room & Board for an evening of inspiration with Jaime Derring\, founder and executive editor of online design magazine\, Design Milk and Jackson Schwartz and Joe Limpert\, glassmakers and co-founders of Hennepin Made. Jaime will lead a lively conversation with Jackson and Joe about American craftsmanship in the artisan design industry and the process and inspiration behind creating handcrafted products. \nBring a friend\, enjoy refreshments\, and discover how to put the finishing touches on your space with Room & Board’s exclusive collection of American-made accessories. Please RSVP here. \nConversation begins at 6:30pm. \n 
URL:https://helmsdesigndistrict.com/event/room-board-hosts-an-evening-with-design-experts/
LOCATION:Room&Board\, 3231 Helms Avenue\, Culver City\, CA\, 90034
CATEGORIES:News
ATTACH;FMTTYPE=image/gif:https://helmsdesigndistrict.com/wp-content/uploads/2015/09/RB-Event-15.10.01.gif
GEO:34.0296674;-118.3846043
X-APPLE-STRUCTURED-LOCATION;VALUE=URI;X-ADDRESS=Room&Board 3231 Helms Avenue Culver City CA 90034;X-APPLE-RADIUS=500;X-TITLE=3231 Helms Avenue:geo:-118.3846043,34.0296674
END:VEVENT
BEGIN:VEVENT
DTSTART;TZID=America/Los_Angeles:20150823T150000
DTEND;TZID=America/Los_Angeles:20150823T170000
DTSTAMP:20260423T174923
CREATED:20150804T191130Z
LAST-MODIFIED:20150804T191130Z
UID:10000047-1440342000-1440349200@helmsdesigndistrict.com
SUMMARY:Room & Board Hosts An Afternoon With The Honey Whiskey Trio
DESCRIPTION:On Sunday\, August 23 from 3:00 to 5:00pm\, please join Room & Board in their showroom for a musical afternoon with The Broad Stage\, a theatre known for forging a new kind of artist and audience experience\, with an exclusive live performance by Honey Whiskey Trio. \nCaptivating and moving audiences through performance\, Honey Whiskey Trio explores harmony in folk\, bluegrass and any melody that catches the ear. Bring a friend and enjoy a summer day with live music\, light bites and cocktails. Please rsvp here.
URL:https://helmsdesigndistrict.com/event/room-board-hosts-an-afternoon-with-the-honey-whiskey-trio/
LOCATION:Room&Board\, 3231 Helms Avenue\, Culver City\, CA\, 90034
CATEGORIES:News
ATTACH;FMTTYPE=image/gif:https://helmsdesigndistrict.com/wp-content/uploads/2015/08/Room-Board-15.08.23.gif
GEO:34.0296674;-118.3846043
X-APPLE-STRUCTURED-LOCATION;VALUE=URI;X-ADDRESS=Room&Board 3231 Helms Avenue Culver City CA 90034;X-APPLE-RADIUS=500;X-TITLE=3231 Helms Avenue:geo:-118.3846043,34.0296674
END:VEVENT
BEGIN:VEVENT
DTSTART;TZID=America/Los_Angeles:20150613T140000
DTEND;TZID=America/Los_Angeles:20150613T160000
DTSTAMP:20260423T174923
CREATED:20150526T225630Z
LAST-MODIFIED:20150526T225640Z
UID:10000040-1434204000-1434211200@helmsdesigndistrict.com
SUMMARY:Celebrate Summer with Floral Art Design Studio
DESCRIPTION:You’re invited to celebrate the power of the flower with Los Angeles’ own Floral Art\, known for their unique arrangements inspired by architecture\, fashion and interior designs. Named Best of Los Angeles by LA Magazine\,experts from Floral Art will lead a lively demonstration on creating fresh arrangements for summer using Room & Board vases. Discover the best centerpiece and tabletop designs for every room while you enjoy light bites and refreshments. Bring a friend and view our collection of outdoor furnishings and accessories\, perfect for summertime entertaining. \nRSVP here \n 
URL:https://helmsdesigndistrict.com/event/celebrate-summer-with-floral-art-design-studio/
LOCATION:Room&Board\, 3231 Helms Avenue\, Culver City\, CA\, 90034
ATTACH;FMTTYPE=image/jpeg:https://helmsdesigndistrict.com/wp-content/uploads/2015/04/CC_Floral_Art_RSVP.jpg
GEO:34.0296674;-118.3846043
X-APPLE-STRUCTURED-LOCATION;VALUE=URI;X-ADDRESS=Room&Board 3231 Helms Avenue Culver City CA 90034;X-APPLE-RADIUS=500;X-TITLE=3231 Helms Avenue:geo:-118.3846043,34.0296674
END:VEVENT
END:VCALENDAR