BEGIN:VCALENDAR
VERSION:2.0
PRODID:-//Helms Design District - ECPv6.15.18//NONSGML v1.0//EN
CALSCALE:GREGORIAN
METHOD:PUBLISH
X-WR-CALNAME:Helms Design District
X-ORIGINAL-URL:https://helmsdesigndistrict.com
X-WR-CALDESC:Events for Helms Design District
REFRESH-INTERVAL;VALUE=DURATION:PT1H
X-Robots-Tag:noindex
X-PUBLISHED-TTL:PT1H
BEGIN:VTIMEZONE
TZID:America/Los_Angeles
BEGIN:DAYLIGHT
TZOFFSETFROM:-0800
TZOFFSETTO:-0700
TZNAME:PDT
DTSTART:20220313T100000
END:DAYLIGHT
BEGIN:STANDARD
TZOFFSETFROM:-0700
TZOFFSETTO:-0800
TZNAME:PST
DTSTART:20221106T090000
END:STANDARD
BEGIN:DAYLIGHT
TZOFFSETFROM:-0800
TZOFFSETTO:-0700
TZNAME:PDT
DTSTART:20230312T100000
END:DAYLIGHT
BEGIN:STANDARD
TZOFFSETFROM:-0700
TZOFFSETTO:-0800
TZNAME:PST
DTSTART:20231105T090000
END:STANDARD
BEGIN:DAYLIGHT
TZOFFSETFROM:-0800
TZOFFSETTO:-0700
TZNAME:PDT
DTSTART:20240310T100000
END:DAYLIGHT
BEGIN:STANDARD
TZOFFSETFROM:-0700
TZOFFSETTO:-0800
TZNAME:PST
DTSTART:20241103T090000
END:STANDARD
END:VTIMEZONE
BEGIN:VEVENT
DTSTART;TZID=America/Los_Angeles:20230622T170000
DTEND;TZID=America/Los_Angeles:20230622T200000
DTSTAMP:20260423T220025
CREATED:20230613T164231Z
LAST-MODIFIED:20230615T212857Z
UID:10001813-1687453200-1687464000@helmsdesigndistrict.com
SUMMARY:Wine and Weave with George Haroonian of The Rug Warehouse
DESCRIPTION:Free \nJoin George Haroonian for a design talk about the rug industry today\, in addition to The Rug Warehouse’s creative offerings.\nSip some wine\, socialize\, and snack while you discover The Rug Warehouse’s custom rug opportinities and new collection. Gift bags will be given to the first 50 guests. \nThe Rug Warehouse\n3260 Helms Ave. Culver City\, CA 90232
URL:https://helmsdesigndistrict.com/event/wine-and-weave-with-george-haroonian-of-the-rug-warehouse/
LOCATION:The Rug Warehouse\, 3260 Helms Ave.\, Culver City\, CA\, 90232
CATEGORIES:News
ATTACH;FMTTYPE=image/jpeg:https://helmsdesigndistrict.com/wp-content/uploads/2023/06/The-Rug-Warehouse_LADF_feature.jpg
END:VEVENT
END:VCALENDAR